<VRTDataset rasterXSize="909113" rasterYSize="717271">
  <SRS>PROJCS["WGS 84 / UTM zone 11N",GEOGCS["WGS 84",DATUM["WGS_1984",SPHEROID["WGS 84",6378137,298.257223563,AUTHORITY["EPSG","7030"]],AUTHORITY["EPSG","6326"]],PRIMEM["Greenwich",0,AUTHORITY["EPSG","8901"]],UNIT["degree",0.0174532925199433,AUTHORITY["EPSG","9122"]],AUTHORITY["EPSG","4326"]],PROJECTION["Transverse_Mercator"],PARAMETER["latitude_of_origin",0],PARAMETER["central_meridian",-117],PARAMETER["scale_factor",0.9996],PARAMETER["false_easting",500000],PARAMETER["false_northing",0],UNIT["metre",1,AUTHORITY["EPSG","9001"]],AXIS["Easting",EAST],AXIS["Northing",NORTH],AUTHORITY["EPSG","32611"]]</SRS>
  <GeoTransform>  1.7271275000000000e+05,  5.0000000000000000e-01,  0.0000000000000000e+00,  3.9973882500000000e+06,  0.0000000000000000e+00, -5.0000000000000000e-01</GeoTransform>
  <VRTRasterBand dataType="Float32" band="1">
    <NoDataValue>0</NoDataValue>
    <ColorInterp>Gray</ColorInterp>
    <ComplexSource>
      <SourceFilename relativeToVRT="1">CA05USGSB4_be/b4_204000_3954000_be.tif</SourceFilename>
      <SourceBand>1</SourceBand>
      <SourceProperties RasterXSize="3027" RasterYSize="3843" DataType="Float32" BlockXSize="128" BlockYSize="128" />
      <SrcRect xOff="0" yOff="0" xSize="3027" ySize="3843" />
      <DstRect xOff="63558" yOff="82766" xSize="3027" ySize="3843" />
      <NODATA>0</NODATA>
    </ComplexSource>
    <ComplexSource>
      <SourceFilename relativeToVRT="1">CA05USGSB4_be/b4_548000_3702000_be.tif</SourceFilename>
      <SourceBand>1</SourceBand>
      <SourceProperties RasterXSize="4021" RasterYSize="4021" DataType="Float32" BlockXSize="128" BlockYSize="128" />
      <SrcRect xOff="0" yOff="0" xSize="4021" ySize="4021" />
      <DstRect xOff="750564" yOff="586766" xSize="4021" ySize="4021" />
      <NODATA>0</NODATA>
    </ComplexSource>
    <ComplexSource>
      <SourceFilename relativeToVRT="1">CA05USGSB4_be/b4_554000_3698000_be.tif</SourceFilename>
      <SourceBand>1</SourceBand>
      <SourceProperties RasterXSize="4021" RasterYSize="4021" DataType="Float32" BlockXSize="128" BlockYSize="128" />
      <SrcRect xOff="0" yOff="0" xSize="4021" ySize="4021" />
      <DstRect xOff="762564" yOff="594766" xSize="4021" ySize="4021" />
      <NODATA>0</NODATA>
    </ComplexSource>
    <ComplexSource>
      <SourceFilename relativeToVRT="1">CA05USGSB4_be/b4_522000_3768000_be.tif</SourceFilename>
      <SourceBand>1</SourceBand>
      <SourceProperties RasterXSize="4021" RasterYSize="771" DataType="Float32" BlockXSize="128" BlockYSize="128" />
      <SrcRect xOff="0" yOff="0" xSize="4021" ySize="771" />
      <DstRect xOff="698564" yOff="458016" xSize="4021" ySize="771" />
      <NODATA>0</NODATA>
    </ComplexSource>
    <ComplexSource>
      <SourceFilename relativeToVRT="1">CA05USGSB4_be/b4_506000_3766000_be.tif</SourceFilename>
      <SourceBand>1</SourceBand>
      <SourceProperties RasterXSize="4021" RasterYSize="4005" DataType="Float32" BlockXSize="128" BlockYSize="128" />
      <SrcRect xOff="0" yOff="0" xSize="4021" ySize="4005" />
      <DstRect xOff="666564" yOff="458782" xSize="4021" ySize="4005" />
      <NODATA>0</NODATA>
    </ComplexSource>
    <ComplexSource>
      <SourceFilename relativeToVRT="1">CA05USGSB4_be/b4_566000_3680000_be.tif</SourceFilename>
      <SourceBand>1</SourceBand>
      <SourceProperties RasterXSize="4021" RasterYSize="4021" DataType="Float32" BlockXSize="128" BlockYSize="128" />
      <SrcRect xOff="0" yOff="0" xSize="4021" ySize="4021" />
      <DstRect xOff="786564" yOff="630766" xSize="4021" ySize="4021" />
      <NODATA>0</NODATA>
    </ComplexSource>
    <ComplexSource>
      <SourceFilename relativeToVRT="1">CA05USGSB4_be/b4_388000_3828000_be.tif</SourceFilename>
      <SourceBand>1</SourceBand>
      <SourceProperties RasterXSize="4021" RasterYSize="2989" DataType="Float32" BlockXSize="128" BlockYSize="128" />
      <SrcRect xOff="0" yOff="0" xSize="4021" ySize="2989" />
      <DstRect xOff="430564" yOff="335798" xSize="4021" ySize="2989" />
      <NODATA>0</NODATA>
    </ComplexSource>
    <ComplexSource>
      <SourceFilename relativeToVRT="1">CA05USGSB4_be/b4_424000_3808000_be.tif</SourceFilename>
      <SourceBand>1</SourceBand>
      <SourceProperties RasterXSize="4021" RasterYSize="2661" DataType="Float32" BlockXSize="128" BlockYSize="128" />
      <SrcRect xOff="0" yOff="0" xSize="4021" ySize="2661" />
      <DstRect xOff="502564" yOff="374766" xSize="4021" ySize="2661" />
      <NODATA>0</NODATA>
    </ComplexSource>
    <ComplexSource>
      <SourceFilename relativeToVRT="1">CA05USGSB4_be/b4_606000_3648000_be.tif</SourceFilename>
      <SourceBand>1</SourceBand>
      <SourceProperties RasterXSize="4021" RasterYSize="2301" DataType="Float32" BlockXSize="128" BlockYSize="128" />
      <SrcRect xOff="0" yOff="0" xSize="4021" ySize="2301" />
      <DstRect xOff="866564" yOff="696486" xSize="4021" ySize="2301" />
      <NODATA>0</NODATA>
    </ComplexSource>
    <ComplexSource>
      <SourceFilename relativeToVRT="1">CA05USGSB4_be/b4_202000_3958000_be.tif</SourceFilename>
      <SourceBand>1</SourceBand>
      <SourceProperties RasterXSize="4021" RasterYSize="4021" DataType="Float32" BlockXSize="128" BlockYSize="128" />
      <SrcRect xOff="0" yOff="0" xSize="4021" ySize="4021" />
      <DstRect xOff="58564" yOff="74766" xSize="4021" ySize="4021" />
      <NODATA>0</NODATA>
    </ComplexSource>
    <ComplexSource>
      <SourceFilename relativeToVRT="1">CA05USGSB4_be/b4_570000_3686000_be.tif</SourceFilename>
      <SourceBand>1</SourceBand>
      <SourceProperties RasterXSize="4021" RasterYSize="2417" DataType="Float32" BlockXSize="128" BlockYSize="128" />
      <SrcRect xOff="0" yOff="0" xSize="4021" ySize="2417" />
      <DstRect xOff="794564" yOff="618766" xSize="4021" ySize="2417" />
      <NODATA>0</NODATA>
    </ComplexSource>
    <ComplexSource>
      <SourceFilename relativeToVRT="1">CA05USGSB4_be/b4_602000_3702000_be.tif</SourceFilename>
      <SourceBand>1</SourceBand>
      <SourceProperties RasterXSize="431" RasterYSize="275" DataType="Float32" BlockXSize="128" BlockYSize="128" />
      <SrcRect xOff="0" yOff="0" xSize="431" ySize="275" />
      <DstRect xOff="862154" yOff="586766" xSize="431" ySize="275" />
      <NODATA>0</NODATA>
    </ComplexSource>
    <ComplexSource>
      <SourceFilename relativeToVRT="1">CA05USGSB4_be/b4_448000_3796000_be.tif</SourceFilename>
      <SourceBand>1</SourceBand>
      <SourceProperties RasterXSize="4021" RasterYSize="3479" DataType="Float32" BlockXSize="128" BlockYSize="128" />
      <SrcRect xOff="0" yOff="0" xSize="4021" ySize="3479" />
      <DstRect xOff="550564" yOff="398766" xSize="4021" ySize="3479" />
      <NODATA>0</NODATA>
    </ComplexSource>
    <ComplexSource>
      <SourceFilename relativeToVRT="1">CA05USGSB4_be/b4_186000_3978000_be.tif</SourceFilename>
      <SourceBand>1</SourceBand>
      <SourceProperties RasterXSize="995" RasterYSize="1317" DataType="Float32" BlockXSize="128" BlockYSize="128" />
      <SrcRect xOff="0" yOff="0" xSize="995" ySize="1317" />
      <DstRect xOff="29590" yOff="34766" xSize="995" ySize="1317" />
      <NODATA>0</NODATA>
    </ComplexSource>
    <ComplexSource>
      <SourceFilename relativeToVRT="1">CA05USGSB4_be/b4_604000_3656000_be.tif</SourceFilename>
      <SourceBand>1</SourceBand>
      <SourceProperties RasterXSize="1299" RasterYSize="331" DataType="Float32" BlockXSize="128" BlockYSize="128" />
      <SrcRect xOff="0" yOff="0" xSize="1299" ySize="331" />
      <DstRect xOff="862564" yOff="682456" xSize="1299" ySize="331" />
      <NODATA>0</NODATA>
    </ComplexSource>
    <ComplexSource>
      <SourceFilename relativeToVRT="1">CA05USGSB4_be/b4_564000_3694000_be.tif</SourceFilename>
      <SourceBand>1</SourceBand>
      <SourceProperties RasterXSize="213" RasterYSize="171" DataType="Float32" BlockXSize="128" BlockYSize="128" />
      <SrcRect xOff="0" yOff="0" xSize="213" ySize="171" />
      <DstRect xOff="782564" yOff="606616" xSize="213" ySize="171" />
      <NODATA>0</NODATA>
    </ComplexSource>
    <ComplexSource>
      <SourceFilename relativeToVRT="1">CA05USGSB4_be/b4_414000_3816000_be.tif</SourceFilename>
      <SourceBand>1</SourceBand>
      <SourceProperties RasterXSize="1223" RasterYSize="721" DataType="Float32" BlockXSize="128" BlockYSize="128" />
      <SrcRect xOff="0" yOff="0" xSize="1223" ySize="721" />
      <DstRect xOff="482564" yOff="362066" xSize="1223" ySize="721" />
      <NODATA>0</NODATA>
    </ComplexSource>
    <ComplexSource>
      <SourceFilename relativeToVRT="1">CA05USGSB4_be/b4_494000_3772000_be.tif</SourceFilename>
      <SourceBand>1</SourceBand>
      <SourceProperties RasterXSize="4021" RasterYSize="2011" DataType="Float32" BlockXSize="128" BlockYSize="128" />
      <SrcRect xOff="0" yOff="0" xSize="4021" ySize="2011" />
      <DstRect xOff="642564" yOff="448776" xSize="4021" ySize="2011" />
      <NODATA>0</NODATA>
    </ComplexSource>
    <ComplexSource>
      <SourceFilename relativeToVRT="1">CA05USGSB4_be/b4_502000_3742000_be.tif</SourceFilename>
      <SourceBand>1</SourceBand>
      <SourceProperties RasterXSize="4021" RasterYSize="3927" DataType="Float32" BlockXSize="128" BlockYSize="128" />
      <SrcRect xOff="0" yOff="0" xSize="4021" ySize="3927" />
      <DstRect xOff="658564" yOff="506860" xSize="4021" ySize="3927" />
      <NODATA>0</NODATA>
    </ComplexSource>
    <ComplexSource>
      <SourceFilename relativeToVRT="1">CA05USGSB4_be/b4_574000_3676000_be.tif</SourceFilename>
      <SourceBand>1</SourceBand>
      <SourceProperties RasterXSize="2367" RasterYSize="943" DataType="Float32" BlockXSize="128" BlockYSize="128" />
      <SrcRect xOff="0" yOff="0" xSize="2367" ySize="943" />
      <DstRect xOff="802564" yOff="641844" xSize="2367" ySize="943" />
      <NODATA>0</NODATA>
    </ComplexSource>
    <ComplexSource>
      <SourceFilename relativeToVRT="1">CA05USGSB4_be/b4_174000_3996000_be.tif</SourceFilename>
      <SourceBand>1</SourceBand>
      <SourceProperties RasterXSize="2081" RasterYSize="2135" DataType="Float32" BlockXSize="128" BlockYSize="128" />
      <SrcRect xOff="0" yOff="0" xSize="2081" ySize="2135" />
      <DstRect xOff="2564" yOff="652" xSize="2081" ySize="2135" />
      <NODATA>0</NODATA>
    </ComplexSource>
    <ComplexSource>
      <SourceFilename relativeToVRT="1">CA05USGSB4_be/b4_484000_3760000_be.tif</SourceFilename>
      <SourceBand>1</SourceBand>
      <SourceProperties RasterXSize="4021" RasterYSize="4021" DataType="Float32" BlockXSize="128" BlockYSize="128" />
      <SrcRect xOff="0" yOff="0" xSize="4021" ySize="4021" />
      <DstRect xOff="622564" yOff="470766" xSize="4021" ySize="4021" />
      <NODATA>0</NODATA>
    </ComplexSource>
    <ComplexSource>
      <SourceFilename relativeToVRT="1">CA05USGSB4_be/b4_584000_3666000_be.tif</SourceFilename>
      <SourceBand>1</SourceBand>
      <SourceProperties RasterXSize="3305" RasterYSize="2883" DataType="Float32" BlockXSize="128" BlockYSize="128" />
      <SrcRect xOff="0" yOff="0" xSize="3305" ySize="2883" />
      <DstRect xOff="822564" yOff="659904" xSize="3305" ySize="2883" />
      <NODATA>0</NODATA>
    </ComplexSource>
    <ComplexSource>
      <SourceFilename relativeToVRT="1">CA05USGSB4_be/b4_594000_3716000_be.tif</SourceFilename>
      <SourceBand>1</SourceBand>
      <SourceProperties RasterXSize="1299" RasterYSize="1301" DataType="Float32" BlockXSize="128" BlockYSize="128" />
      <SrcRect xOff="0" yOff="0" xSize="1299" ySize="1301" />
      <DstRect xOff="842564" yOff="561486" xSize="1299" ySize="1301" />
      <NODATA>0</NODATA>
    </ComplexSource>
    <ComplexSource>
      <SourceFilename relativeToVRT="1">CA05USGSB4_be/b4_548000_3708000_be.tif</SourceFilename>
      <SourceBand>1</SourceBand>
      <SourceProperties RasterXSize="4021" RasterYSize="1421" DataType="Float32" BlockXSize="128" BlockYSize="128" />
      <SrcRect xOff="0" yOff="0" xSize="4021" ySize="1421" />
      <DstRect xOff="750564" yOff="577366" xSize="4021" ySize="1421" />
      <NODATA>0</NODATA>
    </ComplexSource>
    <ComplexSource>
      <SourceFilename relativeToVRT="1">CA05USGSB4_be/b4_560000_3684000_be.tif</SourceFilename>
      <SourceBand>1</SourceBand>
      <SourceProperties RasterXSize="549" RasterYSize="333" DataType="Float32" BlockXSize="128" BlockYSize="128" />
      <SrcRect xOff="0" yOff="0" xSize="549" ySize="333" />
      <DstRect xOff="778036" yOff="622766" xSize="549" ySize="333" />
      <NODATA>0</NODATA>
    </ComplexSource>
    <ComplexSource>
      <SourceFilename relativeToVRT="1">CA05USGSB4_be/b4_466000_3776000_be.tif</SourceFilename>
      <SourceBand>1</SourceBand>
      <SourceProperties RasterXSize="2977" RasterYSize="4021" DataType="Float32" BlockXSize="128" BlockYSize="128" />
      <SrcRect xOff="0" yOff="0" xSize="2977" ySize="4021" />
      <DstRect xOff="587608" yOff="438766" xSize="2977" ySize="4021" />
      <NODATA>0</NODATA>
    </ComplexSource>
    <ComplexSource>
      <SourceFilename relativeToVRT="1">CA05USGSB4_be/b4_470000_3768000_be.tif</SourceFilename>
      <SourceBand>1</SourceBand>
      <SourceProperties RasterXSize="549" RasterYSize="655" DataType="Float32" BlockXSize="128" BlockYSize="128" />
      <SrcRect xOff="0" yOff="0" xSize="549" ySize="655" />
      <DstRect xOff="598036" yOff="454766" xSize="549" ySize="655" />
      <NODATA>0</NODATA>
    </ComplexSource>
    <ComplexSource>
      <SourceFilename relativeToVRT="1">CA05USGSB4_be/b4_498000_3770000_be.tif</SourceFilename>
      <SourceBand>1</SourceBand>
      <SourceProperties RasterXSize="4021" RasterYSize="2673" DataType="Float32" BlockXSize="128" BlockYSize="128" />
      <SrcRect xOff="0" yOff="0" xSize="4021" ySize="2673" />
      <DstRect xOff="650564" yOff="452114" xSize="4021" ySize="2673" />
      <NODATA>0</NODATA>
    </ComplexSource>
    <ComplexSource>
      <SourceFilename relativeToVRT="1">CA05USGSB4_be/b4_452000_3794000_be.tif</SourceFilename>
      <SourceBand>1</SourceBand>
      <SourceProperties RasterXSize="4021" RasterYSize="4021" DataType="Float32" BlockXSize="128" BlockYSize="128" />
      <SrcRect xOff="0" yOff="0" xSize="4021" ySize="4021" />
      <DstRect xOff="558564" yOff="402766" xSize="4021" ySize="4021" />
      <NODATA>0</NODATA>
    </ComplexSource>
    <ComplexSource>
      <SourceFilename relativeToVRT="1">CA05USGSB4_be/b4_584000_3722000_be.tif</SourceFilename>
      <SourceBand>1</SourceBand>
      <SourceProperties RasterXSize="3783" RasterYSize="3545" DataType="Float32" BlockXSize="128" BlockYSize="128" />
      <SrcRect xOff="0" yOff="0" xSize="3783" ySize="3545" />
      <DstRect xOff="822802" yOff="546766" xSize="3783" ySize="3545" />
      <NODATA>0</NODATA>
    </ComplexSource>
    <ComplexSource>
      <SourceFilename relativeToVRT="1">CA05USGSB4_be/b4_200000_3960000_be.tif</SourceFilename>
      <SourceBand>1</SourceBand>
      <SourceProperties RasterXSize="3751" RasterYSize="4021" DataType="Float32" BlockXSize="128" BlockYSize="128" />
      <SrcRect xOff="0" yOff="0" xSize="3751" ySize="4021" />
      <DstRect xOff="54834" yOff="70766" xSize="3751" ySize="4021" />
      <NODATA>0</NODATA>
    </ComplexSource>
    <ComplexSource>
      <SourceFilename relativeToVRT="1">CA05USGSB4_be/b4_542000_3758000_be.tif</SourceFilename>
      <SourceBand>1</SourceBand>
      <SourceProperties RasterXSize="2697" RasterYSize="2315" DataType="Float32" BlockXSize="128" BlockYSize="128" />
      <SrcRect xOff="0" yOff="0" xSize="2697" ySize="2315" />
      <DstRect xOff="739888" yOff="474766" xSize="2697" ySize="2315" />
      <NODATA>0</NODATA>
    </ComplexSource>
    <ComplexSource>
      <SourceFilename relativeToVRT="1">CA05USGSB4_be/b4_520000_3754000_be.tif</SourceFilename>
      <SourceBand>1</SourceBand>
      <SourceProperties RasterXSize="4021" RasterYSize="4021" DataType="Float32" BlockXSize="128" BlockYSize="128" />
      <SrcRect xOff="0" yOff="0" xSize="4021" ySize="4021" />
      <DstRect xOff="694564" yOff="482766" xSize="4021" ySize="4021" />
      <NODATA>0</NODATA>
    </ComplexSource>
    <ComplexSource>
      <SourceFilename relativeToVRT="1">CA05USGSB4_be/b4_538000_3762000_be.tif</SourceFilename>
      <SourceBand>1</SourceBand>
      <SourceProperties RasterXSize="4021" RasterYSize="4021" DataType="Float32" BlockXSize="128" BlockYSize="128" />
      <SrcRect xOff="0" yOff="0" xSize="4021" ySize="4021" />
      <DstRect xOff="730564" yOff="466766" xSize="4021" ySize="4021" />
      <NODATA>0</NODATA>
    </ComplexSource>
    <ComplexSource>
      <SourceFilename relativeToVRT="1">CA05USGSB4_be/b4_172000_3996000_be.tif</SourceFilename>
      <SourceBand>1</SourceBand>
      <SourceProperties RasterXSize="2585" RasterYSize="2787" DataType="Float32" BlockXSize="128" BlockYSize="128" />
      <SrcRect xOff="0" yOff="0" xSize="2585" ySize="2787" />
      <DstRect xOff="0" yOff="0" xSize="2585" ySize="2787" />
      <NODATA>0</NODATA>
    </ComplexSource>
    <ComplexSource>
      <SourceFilename relativeToVRT="1">CA05USGSB4_be/b4_386000_3828000_be.tif</SourceFilename>
      <SourceBand>1</SourceBand>
      <SourceProperties RasterXSize="4021" RasterYSize="3825" DataType="Float32" BlockXSize="128" BlockYSize="128" />
      <SrcRect xOff="0" yOff="0" xSize="4021" ySize="3825" />
      <DstRect xOff="426564" yOff="334766" xSize="4021" ySize="3825" />
      <NODATA>0</NODATA>
    </ComplexSource>
    <ComplexSource>
      <SourceFilename relativeToVRT="1">CA05USGSB4_be/b4_612000_3696000_be.tif</SourceFilename>
      <SourceBand>1</SourceBand>
      <SourceProperties RasterXSize="4021" RasterYSize="4021" DataType="Float32" BlockXSize="128" BlockYSize="128" />
      <SrcRect xOff="0" yOff="0" xSize="4021" ySize="4021" />
      <DstRect xOff="878564" yOff="598766" xSize="4021" ySize="4021" />
      <NODATA>0</NODATA>
    </ComplexSource>
    <ComplexSource>
      <SourceFilename relativeToVRT="1">CA05USGSB4_be/b4_600000_3704000_be.tif</SourceFilename>
      <SourceBand>1</SourceBand>
      <SourceProperties RasterXSize="49" RasterYSize="11" DataType="Float32" BlockXSize="128" BlockYSize="128" />
      <SrcRect xOff="0" yOff="0" xSize="49" ySize="11" />
      <DstRect xOff="858536" yOff="582766" xSize="49" ySize="11" />
      <NODATA>0</NODATA>
    </ComplexSource>
    <ComplexSource>
      <SourceFilename relativeToVRT="1">CA05USGSB4_be/b4_222000_3932000_be.tif</SourceFilename>
      <SourceBand>1</SourceBand>
      <SourceProperties RasterXSize="4021" RasterYSize="4021" DataType="Float32" BlockXSize="128" BlockYSize="128" />
      <SrcRect xOff="0" yOff="0" xSize="4021" ySize="4021" />
      <DstRect xOff="98564" yOff="126766" xSize="4021" ySize="4021" />
      <NODATA>0</NODATA>
    </ComplexSource>
    <ComplexSource>
      <SourceFilename relativeToVRT="1">CA05USGSB4_be/b4_506000_3734000_be.tif</SourceFilename>
      <SourceBand>1</SourceBand>
      <SourceProperties RasterXSize="4021" RasterYSize="4021" DataType="Float32" BlockXSize="128" BlockYSize="128" />
      <SrcRect xOff="0" yOff="0" xSize="4021" ySize="4021" />
      <DstRect xOff="666564" yOff="522766" xSize="4021" ySize="4021" />
      <NODATA>0</NODATA>
    </ComplexSource>
    <ComplexSource>
      <SourceFilename relativeToVRT="1">CA05USGSB4_be/b4_548000_3748000_be.tif</SourceFilename>
      <SourceBand>1</SourceBand>
      <SourceProperties RasterXSize="3873" RasterYSize="1803" DataType="Float32" BlockXSize="128" BlockYSize="128" />
      <SrcRect xOff="0" yOff="0" xSize="3873" ySize="1803" />
      <DstRect xOff="750712" yOff="494766" xSize="3873" ySize="1803" />
      <NODATA>0</NODATA>
    </ComplexSource>
    <ComplexSource>
      <SourceFilename relativeToVRT="1">CA05USGSB4_be/b4_382000_3832000_be.tif</SourceFilename>
      <SourceBand>1</SourceBand>
      <SourceProperties RasterXSize="725" RasterYSize="341" DataType="Float32" BlockXSize="128" BlockYSize="128" />
      <SrcRect xOff="0" yOff="0" xSize="725" ySize="341" />
      <DstRect xOff="418564" yOff="330446" xSize="725" ySize="341" />
      <NODATA>0</NODATA>
    </ComplexSource>
    <ComplexSource>
      <SourceFilename relativeToVRT="1">CA05USGSB4_be/b4_510000_3752000_be.tif</SourceFilename>
      <SourceBand>1</SourceBand>
      <SourceProperties RasterXSize="4021" RasterYSize="965" DataType="Float32" BlockXSize="128" BlockYSize="128" />
      <SrcRect xOff="0" yOff="0" xSize="4021" ySize="965" />
      <DstRect xOff="674564" yOff="486766" xSize="4021" ySize="965" />
      <NODATA>0</NODATA>
    </ComplexSource>
    <ComplexSource>
      <SourceFilename relativeToVRT="1">CA05USGSB4_be/b4_404000_3820000_be.tif</SourceFilename>
      <SourceBand>1</SourceBand>
      <SourceProperties RasterXSize="4021" RasterYSize="2925" DataType="Float32" BlockXSize="128" BlockYSize="128" />
      <SrcRect xOff="0" yOff="0" xSize="4021" ySize="2925" />
      <DstRect xOff="462564" yOff="351862" xSize="4021" ySize="2925" />
      <NODATA>0</NODATA>
    </ComplexSource>
    <ComplexSource>
      <SourceFilename relativeToVRT="1">CA05USGSB4_be/b4_486000_3762000_be.tif</SourceFilename>
      <SourceBand>1</SourceBand>
      <SourceProperties RasterXSize="4021" RasterYSize="4021" DataType="Float32" BlockXSize="128" BlockYSize="128" />
      <SrcRect xOff="0" yOff="0" xSize="4021" ySize="4021" />
      <DstRect xOff="626564" yOff="466766" xSize="4021" ySize="4021" />
      <NODATA>0</NODATA>
    </ComplexSource>
    <ComplexSource>
      <SourceFilename relativeToVRT="1">CA05USGSB4_be/b4_352000_3844000_be.tif</SourceFilename>
      <SourceBand>1</SourceBand>
      <SourceProperties RasterXSize="4021" RasterYSize="1955" DataType="Float32" BlockXSize="128" BlockYSize="128" />
      <SrcRect xOff="0" yOff="0" xSize="4021" ySize="1955" />
      <DstRect xOff="358564" yOff="304832" xSize="4021" ySize="1955" />
      <NODATA>0</NODATA>
    </ComplexSource>
    <ComplexSource>
      <SourceFilename relativeToVRT="1">CA05USGSB4_be/b4_462000_3784000_be.tif</SourceFilename>
      <SourceBand>1</SourceBand>
      <SourceProperties RasterXSize="4021" RasterYSize="4021" DataType="Float32" BlockXSize="128" BlockYSize="128" />
      <SrcRect xOff="0" yOff="0" xSize="4021" ySize="4021" />
      <DstRect xOff="578564" yOff="422766" xSize="4021" ySize="4021" />
      <NODATA>0</NODATA>
    </ComplexSource>
    <ComplexSource>
      <SourceFilename relativeToVRT="1">CA05USGSB4_be/b4_612000_3698000_be.tif</SourceFilename>
      <SourceBand>1</SourceBand>
      <SourceProperties RasterXSize="2109" RasterYSize="1853" DataType="Float32" BlockXSize="128" BlockYSize="128" />
      <SrcRect xOff="0" yOff="0" xSize="2109" ySize="1853" />
      <DstRect xOff="878564" yOff="596934" xSize="2109" ySize="1853" />
      <NODATA>0</NODATA>
    </ComplexSource>
    <ComplexSource>
      <SourceFilename relativeToVRT="1">CA05USGSB4_be/b4_258000_3890000_be.tif</SourceFilename>
      <SourceBand>1</SourceBand>
      <SourceProperties RasterXSize="1569" RasterYSize="1431" DataType="Float32" BlockXSize="128" BlockYSize="128" />
      <SrcRect xOff="0" yOff="0" xSize="1569" ySize="1431" />
      <DstRect xOff="170564" yOff="213356" xSize="1569" ySize="1431" />
      <NODATA>0</NODATA>
    </ComplexSource>
    <ComplexSource>
      <SourceFilename relativeToVRT="1">CA05USGSB4_be/b4_602000_3648000_be.tif</SourceFilename>
      <SourceBand>1</SourceBand>
      <SourceProperties RasterXSize="4021" RasterYSize="2973" DataType="Float32" BlockXSize="128" BlockYSize="128" />
      <SrcRect xOff="0" yOff="0" xSize="4021" ySize="2973" />
      <DstRect xOff="858564" yOff="694766" xSize="4021" ySize="2973" />
      <NODATA>0</NODATA>
    </ComplexSource>
    <ComplexSource>
      <SourceFilename relativeToVRT="1">CA05USGSB4_be/b4_564000_3744000_be.tif</SourceFilename>
      <SourceBand>1</SourceBand>
      <SourceProperties RasterXSize="2557" RasterYSize="2569" DataType="Float32" BlockXSize="128" BlockYSize="128" />
