<VRTDataset rasterXSize="454557" rasterYSize="358636">
  <SRS>PROJCS["WGS 84 / UTM zone 11N",GEOGCS["WGS 84",DATUM["WGS_1984",SPHEROID["WGS 84",6378137,298.257223563,AUTHORITY["EPSG","7030"]],AUTHORITY["EPSG","6326"]],PRIMEM["Greenwich",0,AUTHORITY["EPSG","8901"]],UNIT["degree",0.0174532925199433,AUTHORITY["EPSG","9122"]],AUTHORITY["EPSG","4326"]],PROJECTION["Transverse_Mercator"],PARAMETER["latitude_of_origin",0],PARAMETER["central_meridian",-117],PARAMETER["scale_factor",0.9996],PARAMETER["false_easting",500000],PARAMETER["false_northing",0],UNIT["metre",1,AUTHORITY["EPSG","9001"]],AXIS["Easting",EAST],AXIS["Northing",NORTH],AUTHORITY["EPSG","32611"]]</SRS>
  <GeoTransform>  1.7271250000000000e+05,  1.0000000000000000e+00,  0.0000000000000000e+00,  3.9973885000000000e+06,  0.0000000000000000e+00, -1.0000000000000000e+00</GeoTransform>
  <VRTRasterBand dataType="Float32" band="1">
    <NoDataValue>0</NoDataValue>
    <ColorInterp>Gray</ColorInterp>
    <ComplexSource>
      <SourceFilename relativeToVRT="1">CA05USGSB4_hh/b4_252000_3892000_ff.tif</SourceFilename>
      <SourceBand>1</SourceBand>
      <SourceProperties RasterXSize="1144" RasterYSize="1279" DataType="Float32" BlockXSize="128" BlockYSize="128" />
      <SrcRect xOff="0" yOff="0" xSize="1144" ySize="1279" />
      <DstRect xOff="80149" yOff="103383" xSize="1144" ySize="1279" />
      <NODATA>0</NODATA>
    </ComplexSource>
    <ComplexSource>
      <SourceFilename relativeToVRT="1">CA05USGSB4_hh/b4_214000_3942000_ff.tif</SourceFilename>
      <SourceBand>1</SourceBand>
      <SourceProperties RasterXSize="2011" RasterYSize="2011" DataType="Float32" BlockXSize="128" BlockYSize="128" />
      <SrcRect xOff="0" yOff="0" xSize="2011" ySize="2011" />
      <DstRect xOff="41282" yOff="53383" xSize="2011" ySize="2011" />
      <NODATA>0</NODATA>
    </ComplexSource>
    <ComplexSource>
      <SourceFilename relativeToVRT="1">CA05USGSB4_hh/b4_382000_3832000_ff.tif</SourceFilename>
      <SourceBand>1</SourceBand>
      <SourceProperties RasterXSize="363" RasterYSize="171" DataType="Float32" BlockXSize="128" BlockYSize="128" />
      <SrcRect xOff="0" yOff="0" xSize="363" ySize="171" />
      <DstRect xOff="209282" yOff="165223" xSize="363" ySize="171" />
      <NODATA>0</NODATA>
    </ComplexSource>
    <ComplexSource>
      <SourceFilename relativeToVRT="1">CA05USGSB4_hh/b4_614000_3696000_ff.tif</SourceFilename>
      <SourceBand>1</SourceBand>
      <SourceProperties RasterXSize="1237" RasterYSize="1303" DataType="Float32" BlockXSize="128" BlockYSize="128" />
      <SrcRect xOff="0" yOff="0" xSize="1237" ySize="1303" />
      <DstRect xOff="441282" yOff="300091" xSize="1237" ySize="1303" />
      <NODATA>0</NODATA>
    </ComplexSource>
    <ComplexSource>
      <SourceFilename relativeToVRT="1">CA05USGSB4_hh/b4_486000_3776000_ff.tif</SourceFilename>
      <SourceBand>1</SourceBand>
      <SourceProperties RasterXSize="519" RasterYSize="265" DataType="Float32" BlockXSize="128" BlockYSize="128" />
      <SrcRect xOff="0" yOff="0" xSize="519" ySize="265" />
      <DstRect xOff="313282" yOff="221129" xSize="519" ySize="265" />
      <NODATA>0</NODATA>
    </ComplexSource>
    <ComplexSource>
      <SourceFilename relativeToVRT="1">CA05USGSB4_hh/b4_466000_3778000_ff.tif</SourceFilename>
      <SourceBand>1</SourceBand>
      <SourceProperties RasterXSize="2011" RasterYSize="2011" DataType="Float32" BlockXSize="128" BlockYSize="128" />
      <SrcRect xOff="0" yOff="0" xSize="2011" ySize="2011" />
      <DstRect xOff="293282" yOff="217383" xSize="2011" ySize="2011" />
      <NODATA>0</NODATA>
    </ComplexSource>
    <ComplexSource>
      <SourceFilename relativeToVRT="1">CA05USGSB4_hh/b4_510000_3764000_ff.tif</SourceFilename>
      <SourceBand>1</SourceBand>
      <SourceProperties RasterXSize="2011" RasterYSize="1433" DataType="Float32" BlockXSize="128" BlockYSize="128" />
      <SrcRect xOff="0" yOff="0" xSize="2011" ySize="1433" />
      <DstRect xOff="337282" yOff="231383" xSize="2011" ySize="1433" />
      <NODATA>0</NODATA>
    </ComplexSource>
    <ComplexSource>
      <SourceFilename relativeToVRT="1">CA05USGSB4_hh/b4_538000_3762000_ff.tif</SourceFilename>
      <SourceBand>1</SourceBand>
      <SourceProperties RasterXSize="2011" RasterYSize="2011" DataType="Float32" BlockXSize="128" BlockYSize="128" />
      <SrcRect xOff="0" yOff="0" xSize="2011" ySize="2011" />
      <DstRect xOff="365282" yOff="233383" xSize="2011" ySize="2011" />
      <NODATA>0</NODATA>
    </ComplexSource>
    <ComplexSource>
      <SourceFilename relativeToVRT="1">CA05USGSB4_hh/b4_582000_3726000_ff.tif</SourceFilename>
      <SourceBand>1</SourceBand>
      <SourceProperties RasterXSize="2011" RasterYSize="2011" DataType="Float32" BlockXSize="128" BlockYSize="128" />
      <SrcRect xOff="0" yOff="0" xSize="2011" ySize="2011" />
      <DstRect xOff="409282" yOff="269383" xSize="2011" ySize="2011" />
      <NODATA>0</NODATA>
    </ComplexSource>
    <ComplexSource>
      <SourceFilename relativeToVRT="1">CA05USGSB4_hh/b4_510000_3758000_ff.tif</SourceFilename>
      <SourceBand>1</SourceBand>
      <SourceProperties RasterXSize="2011" RasterYSize="2011" DataType="Float32" BlockXSize="128" BlockYSize="128" />
      <SrcRect xOff="0" yOff="0" xSize="2011" ySize="2011" />
      <DstRect xOff="337282" yOff="237383" xSize="2011" ySize="2011" />
      <NODATA>0</NODATA>
    </ComplexSource>
    <ComplexSource>
      <SourceFilename relativeToVRT="1">CA05USGSB4_hh/b4_326000_3854000_ff.tif</SourceFilename>
      <SourceBand>1</SourceBand>
      <SourceProperties RasterXSize="1601" RasterYSize="625" DataType="Float32" BlockXSize="128" BlockYSize="128" />
      <SrcRect xOff="0" yOff="0" xSize="1601" ySize="625" />
      <DstRect xOff="153282" yOff="142769" xSize="1601" ySize="625" />
      <NODATA>0</NODATA>
    </ComplexSource>
    <ComplexSource>
      <SourceFilename relativeToVRT="1">CA05USGSB4_hh/b4_348000_3846000_ff.tif</SourceFilename>
      <SourceBand>1</SourceBand>
      <SourceProperties RasterXSize="980" RasterYSize="374" DataType="Float32" BlockXSize="128" BlockYSize="128" />
      <SrcRect xOff="0" yOff="0" xSize="980" ySize="374" />
      <DstRect xOff="175282" yOff="151020" xSize="980" ySize="374" />
      <NODATA>0</NODATA>
    </ComplexSource>
    <ComplexSource>
      <SourceFilename relativeToVRT="1">CA05USGSB4_hh/b4_516000_3766000_ff.tif</SourceFilename>
      <SourceBand>1</SourceBand>
      <SourceProperties RasterXSize="2011" RasterYSize="1388" DataType="Float32" BlockXSize="128" BlockYSize="128" />
      <SrcRect xOff="0" yOff="0" xSize="2011" ySize="1388" />
      <DstRect xOff="343282" yOff="229383" xSize="2011" ySize="1388" />
      <NODATA>0</NODATA>
    </ComplexSource>
    <ComplexSource>
      <SourceFilename relativeToVRT="1">CA05USGSB4_hh/b4_564000_3690000_ff.tif</SourceFilename>
      <SourceBand>1</SourceBand>
      <SourceProperties RasterXSize="1627" RasterYSize="1382" DataType="Float32" BlockXSize="128" BlockYSize="128" />
      <SrcRect xOff="0" yOff="0" xSize="1627" ySize="1382" />
      <DstRect xOff="391666" yOff="305383" xSize="1627" ySize="1382" />
      <NODATA>0</NODATA>
    </ComplexSource>
    <ComplexSource>
      <SourceFilename relativeToVRT="1">CA05USGSB4_hh/b4_486000_3760000_ff.tif</SourceFilename>
      <SourceBand>1</SourceBand>
      <SourceProperties RasterXSize="2011" RasterYSize="993" DataType="Float32" BlockXSize="128" BlockYSize="128" />
      <SrcRect xOff="0" yOff="0" xSize="2011" ySize="993" />
      <DstRect xOff="313282" yOff="235383" xSize="2011" ySize="993" />
      <NODATA>0</NODATA>
    </ComplexSource>
    <ComplexSource>
      <SourceFilename relativeToVRT="1">CA05USGSB4_hh/b4_174000_3996000_ff.tif</SourceFilename>
      <SourceBand>1</SourceBand>
      <SourceProperties RasterXSize="1041" RasterYSize="1068" DataType="Float32" BlockXSize="128" BlockYSize="128" />
      <SrcRect xOff="0" yOff="0" xSize="1041" ySize="1068" />
      <DstRect xOff="1282" yOff="326" xSize="1041" ySize="1068" />
      <NODATA>0</NODATA>
    </ComplexSource>
    <ComplexSource>
      <SourceFilename relativeToVRT="1">CA05USGSB4_hh/b4_594000_3654000_ff.tif</SourceFilename>
      <SourceBand>1</SourceBand>
      <SourceProperties RasterXSize="1680" RasterYSize="1559" DataType="Float32" BlockXSize="128" BlockYSize="128" />
      <SrcRect xOff="0" yOff="0" xSize="1680" ySize="1559" />
      <DstRect xOff="421282" yOff="341835" xSize="1680" ySize="1559" />
      <NODATA>0</NODATA>
    </ComplexSource>
    <ComplexSource>
      <SourceFilename relativeToVRT="1">CA05USGSB4_hh/b4_282000_3868000_ff.tif</SourceFilename>
      <SourceBand>1</SourceBand>
      <SourceProperties RasterXSize="878" RasterYSize="759" DataType="Float32" BlockXSize="128" BlockYSize="128" />
      <SrcRect xOff="0" yOff="0" xSize="878" ySize="759" />
      <DstRect xOff="109282" yOff="128635" xSize="878" ySize="759" />
      <NODATA>0</NODATA>
    </ComplexSource>
    <ComplexSource>
      <SourceFilename relativeToVRT="1">CA05USGSB4_hh/b4_468000_3782000_ff.tif</SourceFilename>
      <SourceBand>1</SourceBand>
      <SourceProperties RasterXSize="843" RasterYSize="713" DataType="Float32" BlockXSize="128" BlockYSize="128" />
      <SrcRect xOff="0" yOff="0" xSize="843" ySize="713" />
      <DstRect xOff="296450" yOff="213383" xSize="843" ySize="713" />
      <NODATA>0</NODATA>
    </ComplexSource>
    <ComplexSource>
      <SourceFilename relativeToVRT="1">CA05USGSB4_hh/b4_236000_3914000_ff.tif</SourceFilename>
      <SourceBand>1</SourceBand>
      <SourceProperties RasterXSize="2011" RasterYSize="2011" DataType="Float32" BlockXSize="128" BlockYSize="128" />
      <SrcRect xOff="0" yOff="0" xSize="2011" ySize="2011" />
      <DstRect xOff="63282" yOff="81383" xSize="2011" ySize="2011" />
      <NODATA>0</NODATA>
    </ComplexSource>
    <ComplexSource>
      <SourceFilename relativeToVRT="1">CA05USGSB4_hh/b4_520000_3754000_ff.tif</SourceFilename>
      <SourceBand>1</SourceBand>
      <SourceProperties RasterXSize="2011" RasterYSize="2011" DataType="Float32" BlockXSize="128" BlockYSize="128" />
      <SrcRect xOff="0" yOff="0" xSize="2011" ySize="2011" />
      <DstRect xOff="347282" yOff="241383" xSize="2011" ySize="2011" />
      <NODATA>0</NODATA>
    </ComplexSource>
    <ComplexSource>
      <SourceFilename relativeToVRT="1">CA05USGSB4_hh/b4_398000_3824000_ff.tif</SourceFilename>
      <SourceBand>1</SourceBand>
      <SourceProperties RasterXSize="1048" RasterYSize="547" DataType="Float32" BlockXSize="128" BlockYSize="128" />
      <SrcRect xOff="0" yOff="0" xSize="1048" ySize="547" />
      <DstRect xOff="225282" yOff="172847" xSize="1048" ySize="547" />
      <NODATA>0</NODATA>
    </ComplexSource>
    <ComplexSource>
      <SourceFilename relativeToVRT="1">CA05USGSB4_hh/b4_458000_3790000_ff.tif</SourceFilename>
      <SourceBand>1</SourceBand>
      <SourceProperties RasterXSize="2011" RasterYSize="2011" DataType="Float32" BlockXSize="128" BlockYSize="128" />
      <SrcRect xOff="0" yOff="0" xSize="2011" ySize="2011" />
      <DstRect xOff="285282" yOff="205383" xSize="2011" ySize="2011" />
      <NODATA>0</NODATA>
    </ComplexSource>
    <ComplexSource>
      <SourceFilename relativeToVRT="1">CA05USGSB4_hh/b4_320000_3854000_ff.tif</SourceFilename>
      <SourceBand>1</SourceBand>
      <SourceProperties RasterXSize="2011" RasterYSize="1496" DataType="Float32" BlockXSize="128" BlockYSize="128" />
      <SrcRect xOff="0" yOff="0" xSize="2011" ySize="1496" />
      <DstRect xOff="147282" yOff="141841" xSize="2011" ySize="1496" />
      <NODATA>0</NODATA>
    </ComplexSource>
    <ComplexSource>
      <SourceFilename relativeToVRT="1">CA05USGSB4_hh/b4_554000_3750000_ff.tif</SourceFilename>
      <SourceBand>1</SourceBand>
      <SourceProperties RasterXSize="2011" RasterYSize="2011" DataType="Float32" BlockXSize="128" BlockYSize="128" />
      <SrcRect xOff="0" yOff="0" xSize="2011" ySize="2011" />
      <DstRect xOff="381282" yOff="245383" xSize="2011" ySize="2011" />
      <NODATA>0</NODATA>
    </ComplexSource>
    <ComplexSource>
      <SourceFilename relativeToVRT="1">CA05USGSB4_hh/b4_492000_3748000_ff.tif</SourceFilename>
      <SourceBand>1</SourceBand>
      <SourceProperties RasterXSize="2011" RasterYSize="2011" DataType="Float32" BlockXSize="128" BlockYSize="128" />
      <SrcRect xOff="0" yOff="0" xSize="2011" ySize="2011" />
      <DstRect xOff="319282" yOff="247383" xSize="2011" ySize="2011" />
      <NODATA>0</NODATA>
    </ComplexSource>
    <ComplexSource>
      <SourceFilename relativeToVRT="1">CA05USGSB4_hh/b4_518000_3768000_ff.tif</SourceFilename>
      <SourceBand>1</SourceBand>
      <SourceProperties RasterXSize="2010" RasterYSize="469" DataType="Float32" BlockXSize="128" BlockYSize="128" />
      <SrcRect xOff="0" yOff="0" xSize="2010" ySize="469" />
      <DstRect xOff="345282" yOff="228925" xSize="2010" ySize="469" />
      <NODATA>0</NODATA>
    </ComplexSource>
    <ComplexSource>
      <SourceFilename relativeToVRT="1">CA05USGSB4_hh/b4_446000_3798000_ff.tif</SourceFilename>
      <SourceBand>1</SourceBand>
      <SourceProperties RasterXSize="2011" RasterYSize="2011" DataType="Float32" BlockXSize="128" BlockYSize="128" />
      <SrcRect xOff="0" yOff="0" xSize="2011" ySize="2011" />
      <DstRect xOff="273282" yOff="197383" xSize="2011" ySize="2011" />
      <NODATA>0</NODATA>
    </ComplexSource>
    <ComplexSource>
      <SourceFilename relativeToVRT="1">CA05USGSB4_hh/b4_572000_3674000_ff.tif</SourceFilename>
      <SourceBand>1</SourceBand>
      <SourceProperties RasterXSize="2011" RasterYSize="2011" DataType="Float32" BlockXSize="128" BlockYSize="128" />
      <SrcRect xOff="0" yOff="0" xSize="2011" ySize="2011" />
      <DstRect xOff="399282" yOff="321383" xSize="2011" ySize="2011" />
      <NODATA>0</NODATA>
    </ComplexSource>
    <ComplexSource>
      <SourceFilename relativeToVRT="1">CA05USGSB4_hh/b4_292000_3860000_ff.tif</SourceFilename>
      <SourceBand>1</SourceBand>
      <SourceProperties RasterXSize="1946" RasterYSize="1033" DataType="Float32" BlockXSize="128" BlockYSize="128" />
      <SrcRect xOff="0" yOff="0" xSize="1946" ySize="1033" />
      <DstRect xOff="119347" yOff="135383" xSize="1946" ySize="1033" />
      <NODATA>0</NODATA>
    </ComplexSource>
    <ComplexSource>
      <SourceFilename relativeToVRT="1">CA05USGSB4_hh/b4_258000_3890000_ff.tif</SourceFilename>
      <SourceBand>1</SourceBand>
      <SourceProperties RasterXSize="785" RasterYSize="716" DataType="Float32" BlockXSize="128" BlockYSize="128" />
      <SrcRect xOff="0" yOff="0" xSize="785" ySize="716" />
      <DstRect xOff="85282" yOff="106678" xSize="785" ySize="716" />
      <NODATA>0</NODATA>
    </ComplexSource>
    <ComplexSource>
      <SourceFilename relativeToVRT="1">CA05USGSB4_hh/b4_474000_3782000_ff.tif</SourceFilename>
      <SourceBand>1</SourceBand>
      <SourceProperties RasterXSize="1028" RasterYSize="571" DataType="Float32" BlockXSize="128" BlockYSize="128" />
      <SrcRect xOff="0" yOff="0" xSize="1028" ySize="571" />
      <DstRect xOff="301282" yOff="214823" xSize="1028" ySize="571" />
      <NODATA>0</NODATA>
    </ComplexSource>
    <ComplexSource>
      <SourceFilename relativeToVRT="1">CA05USGSB4_hh/b4_520000_3752000_ff.tif</SourceFilename>
      <SourceBand>1</SourceBand>
      <SourceProperties RasterXSize="2011" RasterYSize="1085" DataType="Float32" BlockXSize="128" BlockYSize="128" />
      <SrcRect xOff="0" yOff="0" xSize="2011" ySize="1085" />
      <DstRect xOff="347282" yOff="243383" xSize="2011" ySize="1085" />
      <NODATA>0</NODATA>
    </ComplexSource>
    <ComplexSource>
      <SourceFilename relativeToVRT="1">CA05USGSB4_hh/b4_334000_3848000_ff.tif</SourceFilename>
      <SourceBand>1</SourceBand>
      <SourceProperties RasterXSize="2011" RasterYSize="770" DataType="Float32" BlockXSize="128" BlockYSize="128" />
      <SrcRect xOff="0" yOff="0" xSize="2011" ySize="770" />
      <DstRect xOff="161282" yOff="147383" xSize="2011" ySize="770" />
      <NODATA>0</NODATA>
    </ComplexSource>
    <ComplexSource>
      <SourceFilename relativeToVRT="1">CA05USGSB4_hh/b4_230000_3920000_ff.tif</SourceFilename>
      <SourceBand>1</SourceBand>
      <SourceProperties RasterXSize="1810" RasterYSize="2011" DataType="Float32" BlockXSize="128" BlockYSize="128" />
      <SrcRect xOff="0" yOff="0" xSize="1810" ySize="2011" />
      <DstRect xOff="57483" yOff="75383" xSize="1810" ySize="2011" />
      <NODATA>0</NODATA>
    </ComplexSource>
    <ComplexSource>
      <SourceFilename relativeToVRT="1">CA05USGSB4_hh/b4_552000_3704000_ff.tif</SourceFilename>
      <SourceBand>1</SourceBand>
      <SourceProperties RasterXSize="2011" RasterYSize="1348" DataType="Float32" BlockXSize="128" BlockYSize="128" />
      <SrcRect xOff="0" yOff="0" xSize="2011" ySize="1348" />
      <DstRect xOff="379282" yOff="291383" xSize="2011" ySize="1348" />
      <NODATA>0</NODATA>
    </ComplexSource>
    <ComplexSource>
      <SourceFilename relativeToVRT="1">CA05USGSB4_hh/b4_480000_3760000_ff.tif</SourceFilename>
      <SourceBand>1</SourceBand>
      <SourceProperties RasterXSize="2011" RasterYSize="1433" DataType="Float32" BlockXSize="128" BlockYSize="128" />
      <SrcRect xOff="0" yOff="0" xSize="2011" ySize="1433" />
      <DstRect xOff="307282" yOff="235383" xSize="2011" ySize="1433" />
      <NODATA>0</NODATA>
    </ComplexSource>
    <ComplexSource>
      <SourceFilename relativeToVRT="1">CA05USGSB4_hh/b4_608000_3646000_ff.tif</SourceFilename>
      <SourceBand>1</SourceBand>
      <SourceProperties RasterXSize="1855" RasterYSize="1922" DataType="Float32" BlockXSize="128" BlockYSize="128" />
      <SrcRect xOff="0" yOff="0" xSize="1855" ySize="1922" />
      <DstRect xOff="435282" yOff="349383" xSize="1855" ySize="1922" />
      <NODATA>0</NODATA>
    </ComplexSource>
    <ComplexSource>
      <SourceFilename relativeToVRT="1">CA05USGSB4_hh/b4_560000_3700000_ff.tif</SourceFilename>
      <SourceBand>1</SourceBand>
      <SourceProperties RasterXSize="2011" RasterYSize="1853" DataType="Float32" BlockXSize="128" BlockYSize="128" />
      <SrcRect xOff="0" yOff="0" xSize="2011" ySize="1853" />
      <DstRect xOff="387282" yOff="295383" xSize="2011" ySize="1853" />
      <NODATA>0</NODATA>
    </ComplexSource>
    <ComplexSource>
      <SourceFilename relativeToVRT="1">CA05USGSB4_hh/b4_560000_3694000_ff.tif</SourceFilename>
      <SourceBand>1</SourceBand>
      <SourceProperties RasterXSize="2011" RasterYSize="2011" DataType="Float32" BlockXSize="128" BlockYSize="128" />
      <SrcRect xOff="0" yOff="0" xSize="2011" ySize="2011" />
      <DstRect xOff="387282" yOff="301383" xSize="2011" ySize="2011" />
      <NODATA>0</NODATA>
    </ComplexSource>
    <ComplexSource>
      <SourceFilename relativeToVRT="1">CA05USGSB4_hh/b4_494000_3742000_ff.tif</SourceFilename>
      <SourceBand>1</SourceBand>
      <SourceProperties RasterXSize="1251" RasterYSize="984" DataType="Float32" BlockXSize="128" BlockYSize="128" />
      <SrcRect xOff="0" yOff="0" xSize="1251" ySize="984" />
      <DstRect xOff="322042" yOff="253383" xSize="1251" ySize="984" />
      <NODATA>0</NODATA>
    </ComplexSource>
    <ComplexSource>
      <SourceFilename relativeToVRT="1">CA05USGSB4_hh/b4_308000_3856000_ff.tif</SourceFilename>
      <SourceBand>1</SourceBand>
      <SourceProperties RasterXSize="2011" RasterYSize="1091" DataType="Float32" BlockXSize="128" BlockYSize="128" />
      <SrcRect xOff="0" yOff="0" xSize="2011" ySize="1091" />
      <DstRect xOff="135282" yOff="139383" xSize="2011" ySize="1091" />
      <NODATA>0</NODATA>
    </ComplexSource>
    <ComplexSource>
      <SourceFilename relativeToVRT="1">CA05USGSB4_hh/b4_416000_3812000_ff.tif</SourceFilename>
      <SourceBand>1</SourceBand>
      <SourceProperties RasterXSize="2011" RasterYSize="1342" DataType="Float32" BlockXSize="128" BlockYSize="128" />
      <SrcRect xOff="0" yOff="0" xSize="2011" ySize="1342" />
      <DstRect xOff="243282" yOff="183383" xSize="2011" ySize="1342" />
      <NODATA>0</NODATA>
    </ComplexSource>
    <ComplexSource>
      <SourceFilename relativeToVRT="1">CA05USGSB4_hh/b4_520000_3756000_ff.tif</SourceFilename>
      <SourceBand>1</SourceBand>
      <SourceProperties RasterXSize="2011" RasterYSize="2011" DataType="Float32" BlockXSize="128" BlockYSize="128" />
      <SrcRect xOff="0" yOff="0" xSize="2011" ySize="2011" />
      <DstRect xOff="347282" yOff="239383" xSize="2011" ySize="2011" />
      <NODATA>0</NODATA>
    </ComplexSource>
    <ComplexSource>
      <SourceFilename relativeToVRT="1">CA05USGSB4_hh/b4_478000_3778000_ff.tif</SourceFilename>
      <SourceBand>1</SourceBand>
      <SourceProperties RasterXSize="2011" RasterYSize="2011" DataType="Float32" BlockXSize="128" BlockYSize="128" />
      <SrcRect xOff="0" yOff="0" xSize="2011" ySize="2011" />
      <DstRect xOff="305282" yOff="217383" xSize="2011" ySize="2011" />
      <NODATA>0</NODATA>
    </ComplexSource>
    <ComplexSource>
      <SourceFilename relativeToVRT="1">CA05USGSB4_hh/b4_402000_3822000_ff.tif</SourceFilename>
      <SourceBand>1</SourceBand>
      <SourceProperties RasterXSize="1088" RasterYSize="463" DataType="Float32" BlockXSize="128" BlockYSize="128" />
      <SrcRect xOff="0" yOff="0" xSize="1088" ySize="463" />
      <DstRect xOff="229282" yOff="174931" xSize="1088" ySize="463" />
      <NODATA>0</NODATA>
    </ComplexSource>
    <ComplexSource>
      <SourceFilename relativeToVRT="1">CA05USGSB4_hh/b4_546000_3758000_ff.tif</SourceFilename>
      <SourceBand>1</SourceBand>
      <SourceProperties RasterXSize="913" RasterYSize="940" DataType="Float32" BlockXSize="128" BlockYSize="128" />
      <SrcRect xOff="0" yOff="0" xSize="913" ySize="940" />
      <DstRect xOff="373282" yOff="238454" xSize="913" ySize="940" />
      <NODATA>0</NODATA>
    </ComplexSource>
    <ComplexSource>
      <SourceFilename relativeToVRT="1">CA05USGSB4_hh/b4_590000_3718000_ff.tif</SourceFilename>
      <SourceBand>1</SourceBand>
      <SourceProperties RasterXSize="2011" RasterYSize="2011" DataType="Float32" BlockXSize="128" BlockYSize="128" />
      <SrcRect xOff="0" yOff="0" xSize="2011" ySize="2011" />
      <DstRect xOff="417282" yOff="277383" xSize="2011" ySize="2011" />
      <NODATA>0</NODATA>
    </ComplexSource>
    <ComplexSource>
      <SourceFilename relativeToVRT="1">CA05USGSB4_hh/b4_186000_3982000_ff.tif</SourceFilename>
      <SourceBand>1</SourceBand>
      <SourceProperties RasterXSize="1429" RasterYSize="1707" DataType="Float32" BlockXSize="128" BlockYSize="128" />
      <SrcRect xOff="0" yOff="0" xSize="1429" ySize="1707" />
      <DstRect xOff="13282" yOff="13687" xSize="1429" ySize="1707" />
      <NODATA>0</NODATA>
    </ComplexSource>
    <ComplexSource>
      <SourceFilename relativeToVRT="1">CA05USGSB4_hh/b4_214000_3944000_ff.tif</SourceFilename>
      <SourceBand>1</SourceBand>
      <SourceProperties RasterXSize="1501" RasterYSize="1873" DataType="Float32" BlockXSize="128" BlockYSize="128" />
      <SrcRect xOff="0" yOff="0" xSize="1501" ySize="1873" />
      <DstRect xOff="41282" yOff="51521" xSize="1501" ySize="1873" />
      <NODATA>0</NODATA>
    </ComplexSource>
    <ComplexSource>
      <SourceFilename relativeToVRT="1">CA05USGSB4_hh/b4_494000_3744000_ff.tif</SourceFilename>
      <SourceBand>1</SourceBand>
      <SourceProperties RasterXSize="2011" RasterYSize="2011" DataType="Float32" BlockXSize="128" BlockYSize="128" />
      <SrcRect xOff="0" yOff="0" xSize="2011" ySize="2011" />
      <DstRect xOff="321282" yOff="251383" xSize="2011" ySize="2011" />
      <NODATA>0</NODATA>
    </ComplexSource>
    <ComplexSource>
      <SourceFilename relativeToVRT="1">CA05USGSB4_hh/b4_512000_3764000_ff.tif</SourceFilename>
      <SourceBand>1</SourceBand>
      <SourceProperties RasterXSize="1666" RasterYSize="835" DataType="Float32" BlockXSize="128" BlockYSize="128" />
