<VRTDataset rasterXSize="68000" rasterYSize="63000">
  <SRS>PROJCS["NAD83 / UTM zone 15N",GEOGCS["NAD83",DATUM["North_American_Datum_1983",SPHEROID["GRS 1980",6378137,298.257222101,AUTHORITY["EPSG","7019"]],TOWGS84[0,0,0,0,0,0,0],AUTHORITY["EPSG","6269"]],PRIMEM["Greenwich",0,AUTHORITY["EPSG","8901"]],UNIT["degree",0.0174532925199433,AUTHORITY["EPSG","9122"]],AUTHORITY["EPSG","4269"]],PROJECTION["Transverse_Mercator"],PARAMETER["latitude_of_origin",0],PARAMETER["central_meridian",-93],PARAMETER["scale_factor",0.9996],PARAMETER["false_easting",500000],PARAMETER["false_northing",0],UNIT["metre",1,AUTHORITY["EPSG","9001"]],AXIS["Easting",EAST],AXIS["Northing",NORTH],AUTHORITY["EPSG","26915"]]</SRS>
  <GeoTransform>  5.8100000000000000e+05,  1.0000000000000000e+00,  0.0000000000000000e+00,  4.6250000000000000e+06,  0.0000000000000000e+00, -1.0000000000000000e+00</GeoTransform>
  <VRTRasterBand dataType="Float32" band="1">
    <NoDataValue>-3.4028234663852886e+38</NoDataValue>
    <ComplexSource>
      <SourceFilename relativeToVRT="1">IA08_Krajewski_be/fg631_4579/*.adf</SourceFilename>
      <SourceBand>1</SourceBand>
      <SourceProperties RasterXSize="1000" RasterYSize="1000" DataType="Float32" BlockXSize="256" BlockYSize="4" />
      <SrcRect xOff="0" yOff="0" xSize="1000" ySize="1000" />
      <DstRect xOff="50000" yOff="45000" xSize="1000" ySize="1000" />
      <NODATA>-3.4028234663852886e+38</NODATA>
    </ComplexSource>
    <ComplexSource>
      <SourceFilename relativeToVRT="1">IA08_Krajewski_be/fg645_4567/*.adf</SourceFilename>
      <SourceBand>1</SourceBand>
      <SourceProperties RasterXSize="1000" RasterYSize="1000" DataType="Float32" BlockXSize="256" BlockYSize="4" />
      <SrcRect xOff="0" yOff="0" xSize="1000" ySize="1000" />
      <DstRect xOff="64000" yOff="57000" xSize="1000" ySize="1000" />
      <NODATA>-3.4028234663852886e+38</NODATA>
    </ComplexSource>
    <ComplexSource>
      <SourceFilename relativeToVRT="1">IA08_Krajewski_be/fg635_4577/*.adf</SourceFilename>
      <SourceBand>1</SourceBand>
      <SourceProperties RasterXSize="1000" RasterYSize="1000" DataType="Float32" BlockXSize="256" BlockYSize="4" />
      <SrcRect xOff="0" yOff="0" xSize="1000" ySize="1000" />
      <DstRect xOff="54000" yOff="47000" xSize="1000" ySize="1000" />
      <NODATA>-3.4028234663852886e+38</NODATA>
    </ComplexSource>
    <ComplexSource>
      <SourceFilename relativeToVRT="1">IA08_Krajewski_be/fg629_4589/*.adf</SourceFilename>
      <SourceBand>1</SourceBand>
      <SourceProperties RasterXSize="1000" RasterYSize="1000" DataType="Float32" BlockXSize="256" BlockYSize="4" />
      <SrcRect xOff="0" yOff="0" xSize="1000" ySize="1000" />
      <DstRect xOff="48000" yOff="35000" xSize="1000" ySize="1000" />
      <NODATA>-3.4028234663852886e+38</NODATA>
    </ComplexSource>
    <ComplexSource>
      <SourceFilename relativeToVRT="1">IA08_Krajewski_be/fg625_4596/*.adf</SourceFilename>
      <SourceBand>1</SourceBand>
      <SourceProperties RasterXSize="1000" RasterYSize="1000" DataType="Float32" BlockXSize="256" BlockYSize="4" />
      <SrcRect xOff="0" yOff="0" xSize="1000" ySize="1000" />
      <DstRect xOff="44000" yOff="28000" xSize="1000" ySize="1000" />
      <NODATA>-3.4028234663852886e+38</NODATA>
    </ComplexSource>
    <ComplexSource>
      <SourceFilename relativeToVRT="1">IA08_Krajewski_be/fg648_4565/*.adf</SourceFilename>
      <SourceBand>1</SourceBand>
      <SourceProperties RasterXSize="1000" RasterYSize="1000" DataType="Float32" BlockXSize="256" BlockYSize="4" />
      <SrcRect xOff="0" yOff="0" xSize="1000" ySize="1000" />
      <DstRect xOff="67000" yOff="59000" xSize="1000" ySize="1000" />
      <NODATA>-3.4028234663852886e+38</NODATA>
    </ComplexSource>
    <ComplexSource>
      <SourceFilename relativeToVRT="1">IA08_Krajewski_be/fg647_4568/*.adf</SourceFilename>
      <SourceBand>1</SourceBand>
      <SourceProperties RasterXSize="1000" RasterYSize="1000" DataType="Float32" BlockXSize="256" BlockYSize="4" />
      <SrcRect xOff="0" yOff="0" xSize="1000" ySize="1000" />
      <DstRect xOff="66000" yOff="56000" xSize="1000" ySize="1000" />
      <NODATA>-3.4028234663852886e+38</NODATA>
    </ComplexSource>
    <ComplexSource>
      <SourceFilename relativeToVRT="1">IA08_Krajewski_be/fg630_4589/*.adf</SourceFilename>
      <SourceBand>1</SourceBand>
      <SourceProperties RasterXSize="1000" RasterYSize="1000" DataType="Float32" BlockXSize="256" BlockYSize="4" />
      <SrcRect xOff="0" yOff="0" xSize="1000" ySize="1000" />
      <DstRect xOff="49000" yOff="35000" xSize="1000" ySize="1000" />
      <NODATA>-3.4028234663852886e+38</NODATA>
    </ComplexSource>
    <ComplexSource>
      <SourceFilename relativeToVRT="1">IA08_Krajewski_be/fg623_4592/*.adf</SourceFilename>
      <SourceBand>1</SourceBand>
      <SourceProperties RasterXSize="1000" RasterYSize="1000" DataType="Float32" BlockXSize="256" BlockYSize="4" />
      <SrcRect xOff="0" yOff="0" xSize="1000" ySize="1000" />
      <DstRect xOff="42000" yOff="32000" xSize="1000" ySize="1000" />
      <NODATA>-3.4028234663852886e+38</NODATA>
    </ComplexSource>
    <ComplexSource>
      <SourceFilename relativeToVRT="1">IA08_Krajewski_be/fg628_4588/*.adf</SourceFilename>
      <SourceBand>1</SourceBand>
      <SourceProperties RasterXSize="1000" RasterYSize="1000" DataType="Float32" BlockXSize="256" BlockYSize="4" />
      <SrcRect xOff="0" yOff="0" xSize="1000" ySize="1000" />
      <DstRect xOff="47000" yOff="36000" xSize="1000" ySize="1000" />
      <NODATA>-3.4028234663852886e+38</NODATA>
    </ComplexSource>
    <ComplexSource>
      <SourceFilename relativeToVRT="1">IA08_Krajewski_be/fm618_623/*.adf</SourceFilename>
      <SourceBand>1</SourceBand>
      <SourceProperties RasterXSize="6000" RasterYSize="30000" DataType="Float32" BlockXSize="512" BlockYSize="4" />
      <SrcRect xOff="0" yOff="0" xSize="6000" ySize="30000" />
      <DstRect xOff="37000" yOff="1000" xSize="6000" ySize="30000" />
      <NODATA>-3.4028234663852886e+38</NODATA>
    </ComplexSource>
    <ComplexSource>
      <SourceFilename relativeToVRT="1">IA08_Krajewski_be/fg623_4593/*.adf</SourceFilename>
      <SourceBand>1</SourceBand>
      <SourceProperties RasterXSize="1000" RasterYSize="1000" DataType="Float32" BlockXSize="256" BlockYSize="4" />
      <SrcRect xOff="0" yOff="0" xSize="1000" ySize="1000" />
      <DstRect xOff="42000" yOff="31000" xSize="1000" ySize="1000" />
      <NODATA>-3.4028234663852886e+38</NODATA>
    </ComplexSource>
    <ComplexSource>
      <SourceFilename relativeToVRT="1">IA08_Krajewski_be/fg639_4566/*.adf</SourceFilename>
      <SourceBand>1</SourceBand>
      <SourceProperties RasterXSize="1000" RasterYSize="1000" DataType="Float32" BlockXSize="256" BlockYSize="4" />
      <SrcRect xOff="0" yOff="0" xSize="1000" ySize="1000" />
      <DstRect xOff="58000" yOff="58000" xSize="1000" ySize="1000" />
      <NODATA>-3.4028234663852886e+38</NODATA>
    </ComplexSource>
    <ComplexSource>
      <SourceFilename relativeToVRT="1">IA08_Krajewski_be/fg627_4589/*.adf</SourceFilename>
      <SourceBand>1</SourceBand>
      <SourceProperties RasterXSize="1000" RasterYSize="1000" DataType="Float32" BlockXSize="256" BlockYSize="4" />
      <SrcRect xOff="0" yOff="0" xSize="1000" ySize="1000" />
      <DstRect xOff="46000" yOff="35000" xSize="1000" ySize="1000" />
      <NODATA>-3.4028234663852886e+38</NODATA>
    </ComplexSource>
    <ComplexSource>
      <SourceFilename relativeToVRT="1">IA08_Krajewski_be/fg628_4586/*.adf</SourceFilename>
      <SourceBand>1</SourceBand>
      <SourceProperties RasterXSize="1000" RasterYSize="1000" DataType="Float32" BlockXSize="256" BlockYSize="4" />
      <SrcRect xOff="0" yOff="0" xSize="1000" ySize="1000" />
      <DstRect xOff="47000" yOff="38000" xSize="1000" ySize="1000" />
      <NODATA>-3.4028234663852886e+38</NODATA>
    </ComplexSource>
    <ComplexSource>
      <SourceFilename relativeToVRT="1">IA08_Krajewski_be/fg626_4594/*.adf</SourceFilename>
      <SourceBand>1</SourceBand>
      <SourceProperties RasterXSize="1000" RasterYSize="1000" DataType="Float32" BlockXSize="256" BlockYSize="4" />
      <SrcRect xOff="0" yOff="0" xSize="1000" ySize="1000" />
      <DstRect xOff="45000" yOff="30000" xSize="1000" ySize="1000" />
      <NODATA>-3.4028234663852886e+38</NODATA>
    </ComplexSource>
    <ComplexSource>
      <SourceFilename relativeToVRT="1">IA08_Krajewski_be/fg627_4591/*.adf</SourceFilename>
      <SourceBand>1</SourceBand>
      <SourceProperties RasterXSize="1000" RasterYSize="1000" DataType="Float32" BlockXSize="256" BlockYSize="4" />
      <SrcRect xOff="0" yOff="0" xSize="1000" ySize="1000" />
      <DstRect xOff="46000" yOff="33000" xSize="1000" ySize="1000" />
      <NODATA>-3.4028234663852886e+38</NODATA>
    </ComplexSource>
    <ComplexSource>
      <SourceFilename relativeToVRT="1">IA08_Krajewski_be/fg647_4567/*.adf</SourceFilename>
      <SourceBand>1</SourceBand>
      <SourceProperties RasterXSize="1000" RasterYSize="1000" DataType="Float32" BlockXSize="256" BlockYSize="4" />
      <SrcRect xOff="0" yOff="0" xSize="1000" ySize="1000" />
      <DstRect xOff="66000" yOff="57000" xSize="1000" ySize="1000" />
      <NODATA>-3.4028234663852886e+38</NODATA>
    </ComplexSource>
    <ComplexSource>
      <SourceFilename relativeToVRT="1">IA08_Krajewski_be/fg627_4588/*.adf</SourceFilename>
      <SourceBand>1</SourceBand>
      <SourceProperties RasterXSize="1000" RasterYSize="1000" DataType="Float32" BlockXSize="256" BlockYSize="4" />
      <SrcRect xOff="0" yOff="0" xSize="1000" ySize="1000" />
      <DstRect xOff="46000" yOff="36000" xSize="1000" ySize="1000" />
      <NODATA>-3.4028234663852886e+38</NODATA>
    </ComplexSource>
    <ComplexSource>
      <SourceFilename relativeToVRT="1">IA08_Krajewski_be/fg630_4580/*.adf</SourceFilename>
      <SourceBand>1</SourceBand>
      <SourceProperties RasterXSize="1000" RasterYSize="1000" DataType="Float32" BlockXSize="256" BlockYSize="4" />
      <SrcRect xOff="0" yOff="0" xSize="1000" ySize="1000" />
      <DstRect xOff="49000" yOff="44000" xSize="1000" ySize="1000" />
      <NODATA>-3.4028234663852886e+38</NODATA>
    </ComplexSource>
    <ComplexSource>
      <SourceFilename relativeToVRT="1">IA08_Krajewski_be/fg633_4575/*.adf</SourceFilename>
      <SourceBand>1</SourceBand>
      <SourceProperties RasterXSize="1000" RasterYSize="1000" DataType="Float32" BlockXSize="256" BlockYSize="4" />
      <SrcRect xOff="0" yOff="0" xSize="1000" ySize="1000" />
      <DstRect xOff="52000" yOff="49000" xSize="1000" ySize="1000" />
      <NODATA>-3.4028234663852886e+38</NODATA>
    </ComplexSource>
    <ComplexSource>
      <SourceFilename relativeToVRT="1">IA08_Krajewski_be/fg645_4570/*.adf</SourceFilename>
      <SourceBand>1</SourceBand>
      <SourceProperties RasterXSize="1000" RasterYSize="1000" DataType="Float32" BlockXSize="256" BlockYSize="4" />
      <SrcRect xOff="0" yOff="0" xSize="1000" ySize="1000" />
      <DstRect xOff="64000" yOff="54000" xSize="1000" ySize="1000" />
      <NODATA>-3.4028234663852886e+38</NODATA>
    </ComplexSource>
    <ComplexSource>
      <SourceFilename relativeToVRT="1">IA08_Krajewski_be/fg638_4567/*.adf</SourceFilename>
      <SourceBand>1</SourceBand>
      <SourceProperties RasterXSize="1000" RasterYSize="1000" DataType="Float32" BlockXSize="256" BlockYSize="4" />
      <SrcRect xOff="0" yOff="0" xSize="1000" ySize="1000" />
      <DstRect xOff="57000" yOff="57000" xSize="1000" ySize="1000" />
      <NODATA>-3.4028234663852886e+38</NODATA>
    </ComplexSource>
    <ComplexSource>
      <SourceFilename relativeToVRT="1">IA08_Krajewski_be/fg633_4576/*.adf</SourceFilename>
      <SourceBand>1</SourceBand>
      <SourceProperties RasterXSize="1000" RasterYSize="1000" DataType="Float32" BlockXSize="256" BlockYSize="4" />
      <SrcRect xOff="0" yOff="0" xSize="1000" ySize="1000" />
      <DstRect xOff="52000" yOff="48000" xSize="1000" ySize="1000" />
      <NODATA>-3.4028234663852886e+38</NODATA>
    </ComplexSource>
    <ComplexSource>
      <SourceFilename relativeToVRT="1">IA08_Krajewski_be/fg635_4580/*.adf</SourceFilename>
      <SourceBand>1</SourceBand>
      <SourceProperties RasterXSize="1000" RasterYSize="1000" DataType="Float32" BlockXSize="256" BlockYSize="4" />
      <SrcRect xOff="0" yOff="0" xSize="1000" ySize="1000" />
      <DstRect xOff="54000" yOff="44000" xSize="1000" ySize="1000" />
      <NODATA>-3.4028234663852886e+38</NODATA>
    </ComplexSource>
    <ComplexSource>
      <SourceFilename relativeToVRT="1">IA08_Krajewski_be/fg626_4587/*.adf</SourceFilename>
      <SourceBand>1</SourceBand>
      <SourceProperties RasterXSize="1000" RasterYSize="1000" DataType="Float32" BlockXSize="256" BlockYSize="4" />
      <SrcRect xOff="0" yOff="0" xSize="1000" ySize="1000" />
      <DstRect xOff="45000" yOff="37000" xSize="1000" ySize="1000" />
      <NODATA>-3.4028234663852886e+38</NODATA>
    </ComplexSource>
    <ComplexSource>
      <SourceFilename relativeToVRT="1">IA08_Krajewski_be/fg628_4587/*.adf</SourceFilename>
      <SourceBand>1</SourceBand>
      <SourceProperties RasterXSize="1000" RasterYSize="1000" DataType="Float32" BlockXSize="256" BlockYSize="4" />
      <SrcRect xOff="0" yOff="0" xSize="1000" ySize="1000" />
      <DstRect xOff="47000" yOff="37000" xSize="1000" ySize="1000" />
      <NODATA>-3.4028234663852886e+38</NODATA>
    </ComplexSource>
    <ComplexSource>
      <SourceFilename relativeToVRT="1">IA08_Krajewski_be/fg630_4582/*.adf</SourceFilename>
      <SourceBand>1</SourceBand>
      <SourceProperties RasterXSize="1000" RasterYSize="1000" DataType="Float32" BlockXSize="256" BlockYSize="4" />
      <SrcRect xOff="0" yOff="0" xSize="1000" ySize="1000" />
      <DstRect xOff="49000" yOff="42000" xSize="1000" ySize="1000" />
      <NODATA>-3.4028234663852886e+38</NODATA>
    </ComplexSource>
    <ComplexSource>
      <SourceFilename relativeToVRT="1">IA08_Krajewski_be/fg646_4562/*.adf</SourceFilename>
      <SourceBand>1</SourceBand>
      <SourceProperties RasterXSize="1000" RasterYSize="1000" DataType="Float32" BlockXSize="256" BlockYSize="4" />
      <SrcRect xOff="0" yOff="0" xSize="1000" ySize="1000" />
      <DstRect xOff="65000" yOff="62000" xSize="1000" ySize="1000" />
      <NODATA>-3.4028234663852886e+38</NODATA>
    </ComplexSource>
    <ComplexSource>
      <SourceFilename relativeToVRT="1">IA08_Krajewski_be/fg622_4595/*.adf</SourceFilename>
      <SourceBand>1</SourceBand>
      <SourceProperties RasterXSize="1000" RasterYSize="1000" DataType="Float32" BlockXSize="256" BlockYSize="4" />
      <SrcRect xOff="0" yOff="0" xSize="1000" ySize="1000" />
      <DstRect xOff="41000" yOff="29000" xSize="1000" ySize="1000" />
      <NODATA>-3.4028234663852886e+38</NODATA>
    </ComplexSource>
    <ComplexSource>
      <SourceFilename relativeToVRT="1">IA08_Krajewski_be/fg629_4590/*.adf</SourceFilename>
      <SourceBand>1</SourceBand>
      <SourceProperties RasterXSize="1000" RasterYSize="1000" DataType="Float32" BlockXSize="256" BlockYSize="4" />
      <SrcRect xOff="0" yOff="0" xSize="1000" ySize="1000" />
      <DstRect xOff="48000" yOff="34000" xSize="1000" ySize="1000" />
      <NODATA>-3.4028234663852886e+38</NODATA>
    </ComplexSource>
    <ComplexSource>
      <SourceFilename relativeToVRT="1">IA08_Krajewski_be/fg640_4572/*.adf</SourceFilename>
      <SourceBand>1</SourceBand>
      <SourceProperties RasterXSize="1000" RasterYSize="1000" DataType="Float32" BlockXSize="256" BlockYSize="4" />
      <SrcRect xOff="0" yOff="0" xSize="1000" ySize="1000" />
      <DstRect xOff="59000" yOff="52000" xSize="1000" ySize="1000" />
      <NODATA>-3.4028234663852886e+38</NODATA>
    </ComplexSource>
    <ComplexSource>
      <SourceFilename relativeToVRT="1">IA08_Krajewski_be/fg636_4573/*.adf</SourceFilename>
      <SourceBand>1</SourceBand>
      <SourceProperties RasterXSize="1000" RasterYSize="1000" DataType="Float32" BlockXSize="256" BlockYSize="4" />
      <SrcRect xOff="0" yOff="0" xSize="1000" ySize="1000" />
      <DstRect xOff="55000" yOff="51000" xSize="1000" ySize="1000" />
      <NODATA>-3.4028234663852886e+38</NODATA>
    </ComplexSource>
    <ComplexSource>
      <SourceFilename relativeToVRT="1">IA08_Krajewski_be/fg645_4565/*.adf</SourceFilename>
      <SourceBand>1</SourceBand>
      <SourceProperties RasterXSize="1000" RasterYSize="1000" DataType="Float32" BlockXSize="256" BlockYSize="4" />
      <SrcRect xOff="0" yOff="0" xSize="1000" ySize="1000" />
      <DstRect xOff="64000" yOff="59000" xSize="1000" ySize="1000" />
      <NODATA>-3.4028234663852886e+38</NODATA>
    </ComplexSource>
    <ComplexSource>
      <SourceFilename relativeToVRT="1">IA08_Krajewski_be/fg633_4580/*.adf</SourceFilename>
      <SourceBand>1</SourceBand>
      <SourceProperties RasterXSize="1000" RasterYSize="1000" DataType="Float32" BlockXSize="256" BlockYSize="4" />
      <SrcRect xOff="0" yOff="0" xSize="1000" ySize="1000" />
      <DstRect xOff="52000" yOff="44000" xSize="1000" ySize="1000" />
      <NODATA>-3.4028234663852886e+38</NODATA>
    </ComplexSource>
    <ComplexSource>
      <SourceFilename relativeToVRT="1">IA08_Krajewski_be/fg642_4571/*.adf</SourceFilename>
      <SourceBand>1</SourceBand>
      <SourceProperties RasterXSize="1000" RasterYSize="1000" DataType="Float32" BlockXSize="256" BlockYSize="4" />
      <SrcRect xOff="0" yOff="0" xSize="1000" ySize="1000" />
      <DstRect xOff="61000" yOff="53000" xSize="1000" ySize="1000" />
      <NODATA>-3.4028234663852886e+38</NODATA>
    </ComplexSource>
    <ComplexSource>
      <SourceFilename relativeToVRT="1">IA08_Krajewski_be/fg625_4595/*.adf</SourceFilename>
      <SourceBand>1</SourceBand>
      <SourceProperties RasterXSize="1000" RasterYSize="1000" DataType="Float32" BlockXSize="256" BlockYSize="4" />
      <SrcRect xOff="0" yOff="0" xSize="1000" ySize="1000" />
      <DstRect xOff="44000" yOff="29000" xSize="1000" ySize="1000" />
      <NODATA>-3.4028234663852886e+38</NODATA>
    </ComplexSource>
    <ComplexSource>
      <SourceFilename relativeToVRT="1">IA08_Krajewski_be/fg624_4598/*.adf</SourceFilename>
      <SourceBand>1</SourceBand>
      <SourceProperties RasterXSize="1000" RasterYSize="1000" DataType="Float32" BlockXSize="256" BlockYSize="4" />
      <SrcRect xOff="0" yOff="0" xSize="1000" ySize="1000" />
      <DstRect xOff="43000" yOff="26000" xSize="1000" ySize="1000" />
      <NODATA>-3.4028234663852886e+38</NODATA>
    </ComplexSource>
    <ComplexSource>
      <SourceFilename relativeToVRT="1">IA08_Krajewski_be/fg640_4573/*.adf</SourceFilename>
      <SourceBand>1</SourceBand>
      <SourceProperties RasterXSize="1000" RasterYSize="1000" DataType="Float32" BlockXSize="256" BlockYSize="4" />
      <SrcRect xOff="0" yOff="0" xSize="1000" ySize="1000" />
      <DstRect xOff="59000" yOff="51000" xSize="1000" ySize="1000" />
      <NODATA>-3.4028234663852886e+38</NODATA>
    </ComplexSource>
    <ComplexSource>
      <SourceFilename relativeToVRT="1">IA08_Krajewski_be/fg627_4592/*.adf</SourceFilename>
      <SourceBand>1</SourceBand>
      <SourceProperties RasterXSize="1000" RasterYSize="1000" DataType="Float32" BlockXSize="256" BlockYSize="4" />
      <SrcRect xOff="0" yOff="0" xSize="1000" ySize="1000" />
      <DstRect xOff="46000" yOff="32000" xSize="1000" ySize="1000" />
      <NODATA>-3.4028234663852886e+38</NODATA>
    </ComplexSource>
    <ComplexSource>
      <SourceFilename relativeToVRT="1">IA08_Krajewski_be/fg632_4585/*.adf</SourceFilename>
      <SourceBand>1</SourceBand>
      <SourceProperties RasterXSize="1000" RasterYSize="1000" DataType="Float32" BlockXSize="256" BlockYSize="4" />
      <SrcRect xOff="0" yOff="0" xSize="1000" ySize="1000" />
      <DstRect xOff="51000" yOff="39000" xSize="1000" ySize="1000" />
      <NODATA>-3.4028234663852886e+38</NODATA>
    </ComplexSource>
    <ComplexSource>
      <SourceFilename relativeToVRT="1">IA08_Krajewski_be/fg631_4583/*.adf</SourceFilename>
      <SourceBand>1</SourceBand>
      <SourceProperties RasterXSize="1000" RasterYSize="1000" DataType="Float32" BlockXSize="256" BlockYSize="4" />
      <SrcRect xOff="0" yOff="0" xSize="1000" ySize="1000" />
      <DstRect xOff="50000" yOff="41000" xSize="1000" ySize="1000" />
      <NODATA>-3.4028234663852886e+38</NODATA>
    </ComplexSource>
    <ComplexSource>
      <SourceFilename relativeToVRT="1">IA08_Krajewski_be/fg629_4592/*.adf</SourceFilename>
      <SourceBand>1</SourceBand>
      <SourceProperties RasterXSize="1000" RasterYSize="1000" DataType="Float32" BlockXSize="256" BlockYSize="4" />
      <SrcRect xOff="0" yOff="0" xSize="1000" ySize="1000" />
      <DstRect xOff="48000" yOff="32000" xSize="1000" ySize="1000" />
      <NODATA>-3.4028234663852886e+38</NODATA>
    </ComplexSource>
    <ComplexSource>
      <SourceFilename relativeToVRT="1">IA08_Krajewski_be/fg639_4569/*.adf</SourceFilename>
      <SourceBand>1</SourceBand>
      <SourceProperties RasterXSize="1000" RasterYSize="1000" DataType="Float32" BlockXSize="256" BlockYSize="4" />
      <SrcRect xOff="0" yOff="0" xSize="1000" ySize="1000" />
      <DstRect xOff="58000" yOff="55000" xSize="1000" ySize="1000" />
      <NODATA>-3.4028234663852886e+38</NODATA>
    </ComplexSource>
    <ComplexSource>
      <SourceFilename relativeToVRT="1">IA08_Krajewski_be/fg638_4568/*.adf</SourceFilename>
      <SourceBand>1</SourceBand>
      <SourceProperties RasterXSize="1000" RasterYSize="1000" DataType="Float32" BlockXSize="256" BlockYSize="4" />
      <SrcRect xOff="0" yOff="0" xSize="1000" ySize="1000" />
      <DstRect xOff="57000" yOff="56000" xSize="1000" ySize="1000" />
      <NODATA>-3.4028234663852886e+38</NODATA>
    </ComplexSource>
    <ComplexSource>
      <SourceFilename relativeToVRT="1">IA08_Krajewski_be/fg631_4582/*.adf</SourceFilename>
      <SourceBand>1</SourceBand>
      <SourceProperties RasterXSize="1000" RasterYSize="1000" DataType="Float32" BlockXSize="256" BlockYSize="4" />
      <SrcRect xOff="0" yOff="0" xSize="1000" ySize="1000" />
      <DstRect xOff="50000" yOff="42000" xSize="1000" ySize="1000" />
      <NODATA>-3.4028234663852886e+38</NODATA>
    </ComplexSource>
    <ComplexSource>
      <SourceFilename relativeToVRT="1">IA08_Krajewski_be/fg633_4581/*.adf</SourceFilename>
      <SourceBand>1</SourceBand>
      <SourceProperties RasterXSize="1000" RasterYSize="1000" DataType="Float32" BlockXSize="256" BlockYSize="4" />
      <SrcRect xOff="0" yOff="0" xSize="1000" ySize="1000" />
      <DstRect xOff="52000" yOff="43000" xSize="1000" ySize="1000" />
      <NODATA>-3.4028234663852886e+38</NODATA>
    </ComplexSource>
    <ComplexSource>
      <SourceFilename relativeToVRT="1">IA08_Krajewski_be/fg634_4583/*.adf</SourceFilename>
      <SourceBand>1</SourceBand>
      <SourceProperties RasterXSize="1000" RasterYSize="1000" DataType="Float32" BlockXSize="256" BlockYSize="4" />
      <SrcRect xOff="0" yOff="0" xSize="1000" ySize="1000" />
      <DstRect xOff="53000" yOff="41000" xSize="1000" ySize="1000" />
      <NODATA>-3.4028234663852886e+38</NODATA>
    </ComplexSource>
    <ComplexSource>
      <SourceFilename relativeToVRT="1">IA08_Krajewski_be/fg639_4573/*.adf</SourceFilename>
      <SourceBand>1</SourceBand>
      <SourceProperties RasterXSize="1000" RasterYSize="1000" DataType="Float32" BlockXSize="256" BlockYSize="4" />
      <SrcRect xOff="0" yOff="0" xSize="1000" ySize="1000" />
      <DstRect xOff="58000" yOff="51000" xSize="1000" ySize="1000" />
      <NODATA>-3.4028234663852886e+38</NODATA>
    </ComplexSource>
    <ComplexSource>
      <SourceFilename relativeToVRT="1">IA08_Krajewski_be/fg627_4594/*.adf</SourceFilename>
      <SourceBand>1</SourceBand>
      <SourceProperties RasterXSize="1000" RasterYSize="1000" DataType="Float32" BlockXSize="256" BlockYSize="4" />
      <SrcRect xOff="0" yOff="0" xSize="1000" ySize="1000" />
      <DstRect xOff="46000" yOff="30000" xSize="1000" ySize="1000" />
