<VRTDataset rasterXSize="69000" rasterYSize="63000">
  <SRS>PROJCS["NAD83 / UTM zone 15N",GEOGCS["NAD83",DATUM["North_American_Datum_1983",SPHEROID["GRS 1980",6378137,298.257222101,AUTHORITY["EPSG","7019"]],TOWGS84[0,0,0,0,0,0,0],AUTHORITY["EPSG","6269"]],PRIMEM["Greenwich",0,AUTHORITY["EPSG","8901"]],UNIT["degree",0.0174532925199433,AUTHORITY["EPSG","9122"]],AUTHORITY["EPSG","4269"]],PROJECTION["Transverse_Mercator"],PARAMETER["latitude_of_origin",0],PARAMETER["central_meridian",-93],PARAMETER["scale_factor",0.9996],PARAMETER["false_easting",500000],PARAMETER["false_northing",0],UNIT["metre",1,AUTHORITY["EPSG","9001"]],AXIS["Easting",EAST],AXIS["Northing",NORTH],AUTHORITY["EPSG","26915"]]</SRS>
  <GeoTransform>  5.8100000000000000e+05,  1.0000000000000000e+00,  0.0000000000000000e+00,  4.6250000000000000e+06,  0.0000000000000000e+00, -1.0000000000000000e+00</GeoTransform>
  <VRTRasterBand dataType="Float32" band="1">
    <NoDataValue>-3.4028234663852886e+38</NoDataValue>
    <ComplexSource>
      <SourceFilename relativeToVRT="1">IA08_Krajewski_hh/um622_632/*.adf</SourceFilename>
      <SourceBand>1</SourceBand>
      <SourceProperties RasterXSize="10000" RasterYSize="22000" DataType="Float32" BlockXSize="512" BlockYSize="4" />
      <SrcRect xOff="0" yOff="0" xSize="10000" ySize="22000" />
      <DstRect xOff="41000" yOff="25000" xSize="10000" ySize="22000" />
      <NODATA>-3.4028234663852886e+38</NODATA>
    </ComplexSource>
    <ComplexSource>
      <SourceFilename relativeToVRT="1">IA08_Krajewski_hh/um618_623/*.adf</SourceFilename>
      <SourceBand>1</SourceBand>
      <SourceProperties RasterXSize="6000" RasterYSize="30000" DataType="Float32" BlockXSize="512" BlockYSize="4" />
      <SrcRect xOff="0" yOff="0" xSize="6000" ySize="30000" />
      <DstRect xOff="37000" yOff="1000" xSize="6000" ySize="30000" />
      <NODATA>-3.4028234663852886e+38</NODATA>
    </ComplexSource>
    <ComplexSource>
      <SourceFilename relativeToVRT="1">IA08_Krajewski_hh/um641_642/*.adf</SourceFilename>
      <SourceBand>1</SourceBand>
      <SourceProperties RasterXSize="2000" RasterYSize="4000" DataType="Float32" BlockXSize="512" BlockYSize="4" />
      <SrcRect xOff="0" yOff="0" xSize="2000" ySize="4000" />
      <DstRect xOff="60000" yOff="56000" xSize="2000" ySize="4000" />
      <NODATA>-3.4028234663852886e+38</NODATA>
    </ComplexSource>
    <ComplexSource>
      <SourceFilename relativeToVRT="1">IA08_Krajewski_hh/um630_631/*.adf</SourceFilename>
      <SourceBand>1</SourceBand>
      <SourceProperties RasterXSize="2000" RasterYSize="3000" DataType="Float32" BlockXSize="512" BlockYSize="4" />
      <SrcRect xOff="0" yOff="0" xSize="2000" ySize="3000" />
      <DstRect xOff="49000" yOff="45000" xSize="2000" ySize="3000" />
      <NODATA>-3.4028234663852886e+38</NODATA>
    </ComplexSource>
    <ComplexSource>
      <SourceFilename relativeToVRT="1">IA08_Krajewski_hh/um620_630/*.adf</SourceFilename>
      <SourceBand>1</SourceBand>
      <SourceProperties RasterXSize="10000" RasterYSize="18000" DataType="Float32" BlockXSize="512" BlockYSize="4" />
      <SrcRect xOff="0" yOff="0" xSize="10000" ySize="18000" />
      <DstRect xOff="39000" yOff="29000" xSize="10000" ySize="18000" />
      <NODATA>-3.4028234663852886e+38</NODATA>
    </ComplexSource>
    <ComplexSource>
      <SourceFilename relativeToVRT="1">IA08_Krajewski_hh/um621_631/*.adf</SourceFilename>
      <SourceBand>1</SourceBand>
      <SourceProperties RasterXSize="10000" RasterYSize="21000" DataType="Float32" BlockXSize="512" BlockYSize="4" />
      <SrcRect xOff="0" yOff="0" xSize="10000" ySize="21000" />
      <DstRect xOff="40000" yOff="26000" xSize="10000" ySize="21000" />
      <NODATA>-3.4028234663852886e+38</NODATA>
    </ComplexSource>
    <ComplexSource>
      <SourceFilename relativeToVRT="1">IA08_Krajewski_hh/um591_601/*.adf</SourceFilename>
      <SourceBand>1</SourceBand>
      <SourceProperties RasterXSize="10000" RasterYSize="11000" DataType="Float32" BlockXSize="512" BlockYSize="4" />
      <SrcRect xOff="0" yOff="0" xSize="10000" ySize="11000" />
      <DstRect xOff="10000" yOff="0" xSize="10000" ySize="11000" />
      <NODATA>-3.4028234663852886e+38</NODATA>
    </ComplexSource>
    <ComplexSource>
      <SourceFilename relativeToVRT="1">IA08_Krajewski_hh/um632_642/*.adf</SourceFilename>
      <SourceBand>1</SourceBand>
      <SourceProperties RasterXSize="10000" RasterYSize="22000" DataType="Float32" BlockXSize="512" BlockYSize="4" />
      <SrcRect xOff="0" yOff="0" xSize="10000" ySize="22000" />
      <DstRect xOff="51000" yOff="38000" xSize="10000" ySize="22000" />
      <NODATA>-3.4028234663852886e+38</NODATA>
    </ComplexSource>
    <ComplexSource>
      <SourceFilename relativeToVRT="1">IA08_Krajewski_hh/um640_649/*.adf</SourceFilename>
      <SourceBand>1</SourceBand>
      <SourceProperties RasterXSize="10000" RasterYSize="8000" DataType="Float32" BlockXSize="512" BlockYSize="4" />
      <SrcRect xOff="0" yOff="0" xSize="10000" ySize="8000" />
      <DstRect xOff="59000" yOff="54000" xSize="10000" ySize="8000" />
      <NODATA>-3.4028234663852886e+38</NODATA>
    </ComplexSource>
    <ComplexSource>
      <SourceFilename relativeToVRT="1">IA08_Krajewski_hh/um601_611/*.adf</SourceFilename>
      <SourceBand>1</SourceBand>
      <SourceProperties RasterXSize="10000" RasterYSize="10000" DataType="Float32" BlockXSize="512" BlockYSize="4" />
      <SrcRect xOff="0" yOff="0" xSize="10000" ySize="10000" />
      <DstRect xOff="20000" yOff="2000" xSize="10000" ySize="10000" />
      <NODATA>-3.4028234663852886e+38</NODATA>
    </ComplexSource>
    <ComplexSource>
      <SourceFilename relativeToVRT="1">IA08_Krajewski_hh/um630_640/*.adf</SourceFilename>
      <SourceBand>1</SourceBand>
      <SourceProperties RasterXSize="10000" RasterYSize="15000" DataType="Float32" BlockXSize="512" BlockYSize="4" />
      <SrcRect xOff="0" yOff="0" xSize="10000" ySize="15000" />
      <DstRect xOff="49000" yOff="41000" xSize="10000" ySize="15000" />
      <NODATA>-3.4028234663852886e+38</NODATA>
    </ComplexSource>
    <ComplexSource>
      <SourceFilename relativeToVRT="1">IA08_Krajewski_hh/um642_648/*.adf</SourceFilename>
      <SourceBand>1</SourceBand>
      <SourceProperties RasterXSize="7000" RasterYSize="10000" DataType="Float32" BlockXSize="512" BlockYSize="4" />
      <SrcRect xOff="0" yOff="0" xSize="7000" ySize="10000" />
      <DstRect xOff="61000" yOff="53000" xSize="7000" ySize="10000" />
      <NODATA>-3.4028234663852886e+38</NODATA>
    </ComplexSource>
    <ComplexSource>
      <SourceFilename relativeToVRT="1">IA08_Krajewski_hh/um619_625/*.adf</SourceFilename>
      <SourceBand>1</SourceBand>
      <SourceProperties RasterXSize="7000" RasterYSize="29000" DataType="Float32" BlockXSize="512" BlockYSize="4" />
      <SrcRect xOff="0" yOff="0" xSize="7000" ySize="29000" />
      <DstRect xOff="38000" yOff="1000" xSize="7000" ySize="29000" />
      <NODATA>-3.4028234663852886e+38</NODATA>
    </ComplexSource>
    <ComplexSource>
      <SourceFilename relativeToVRT="1">IA08_Krajewski_hh/um611_619/*.adf</SourceFilename>
      <SourceBand>1</SourceBand>
      <SourceProperties RasterXSize="9000" RasterYSize="12000" DataType="Float32" BlockXSize="512" BlockYSize="4" />
      <SrcRect xOff="0" yOff="0" xSize="9000" ySize="12000" />
      <DstRect xOff="30000" yOff="1000" xSize="9000" ySize="12000" />
      <NODATA>-3.4028234663852886e+38</NODATA>
    </ComplexSource>
    <ComplexSource>
      <SourceFilename relativeToVRT="1">IA08_Krajewski_hh/um581_591/*.adf</SourceFilename>
      <SourceBand>1</SourceBand>
      <SourceProperties RasterXSize="10000" RasterYSize="12000" DataType="Float32" BlockXSize="512" BlockYSize="4" />
      <SrcRect xOff="0" yOff="0" xSize="10000" ySize="12000" />
      <DstRect xOff="0" yOff="0" xSize="10000" ySize="12000" />
      <NODATA>-3.4028234663852886e+38</NODATA>
    </ComplexSource>
    <ComplexSource>
      <SourceFilename relativeToVRT="1">IA08_Krajewski_hh/um631_641/*.adf</SourceFilename>
      <SourceBand>1</SourceBand>
      <SourceProperties RasterXSize="10000" RasterYSize="20000" DataType="Float32" BlockXSize="512" BlockYSize="4" />
      <SrcRect xOff="0" yOff="0" xSize="10000" ySize="20000" />
      <DstRect xOff="50000" yOff="39000" xSize="10000" ySize="20000" />
      <NODATA>-3.4028234663852886e+38</NODATA>
    </ComplexSource>
  </VRTRasterBand>
</VRTDataset>
