<VRTDataset rasterXSize="110001" rasterYSize="108751">
  <SRS>PROJCS["WGS 84 / UTM zone 41N",GEOGCS["WGS 84",DATUM["WGS_1984",SPHEROID["WGS 84",6378137,298.257223563,AUTHORITY["EPSG","7030"]],AUTHORITY["EPSG","6326"]],PRIMEM["Greenwich",0,AUTHORITY["EPSG","8901"]],UNIT["degree",0.0174532925199433,AUTHORITY["EPSG","9122"]],AUTHORITY["EPSG","4326"]],PROJECTION["Transverse_Mercator"],PARAMETER["latitude_of_origin",0],PARAMETER["central_meridian",63],PARAMETER["scale_factor",0.9996],PARAMETER["false_easting",500000],PARAMETER["false_northing",0],UNIT["metre",1,AUTHORITY["EPSG","9001"]],AXIS["Easting",EAST],AXIS["Northing",NORTH],AUTHORITY["EPSG","32641"]]</SRS>
  <GeoTransform>  5.4698376148788235e+05,  2.0000000000000000e+00,  0.0000000000000000e+00,  3.0802164779286152e+06,  0.0000000000000000e+00, -2.0000000000000000e+00</GeoTransform>
  <VRTRasterBand dataType="Float32" band="1">
    <NoDataValue>-32767</NoDataValue>
    <ColorInterp>Gray</ColorInterp>
    <ComplexSource>
      <SourceFilename relativeToVRT="1">PostPak13_Barn_hh/PostPak13_Barn_Mosaic_CK_062.tif</SourceFilename>
      <SourceBand>1</SourceBand>
      <SourceProperties RasterXSize="1251" RasterYSize="1251" DataType="Float32" BlockXSize="1251" BlockYSize="1" />
      <SrcRect xOff="0" yOff="0" xSize="1251" ySize="1251" />
      <DstRect xOff="71250" yOff="76250" xSize="1251" ySize="1251" />
      <NODATA>-32767</NODATA>
    </ComplexSource>
    <ComplexSource>
      <SourceFilename relativeToVRT="1">PostPak13_Barn_hh/PostPak13_Barn_Mosaic_BB_085.tif</SourceFilename>
      <SourceBand>1</SourceBand>
      <SourceProperties RasterXSize="1251" RasterYSize="1251" DataType="Float32" BlockXSize="1251" BlockYSize="1" />
      <SrcRect xOff="0" yOff="0" xSize="1251" ySize="1251" />
      <DstRect xOff="100000" yOff="32500" xSize="1251" ySize="1251" />
      <NODATA>-32767</NODATA>
    </ComplexSource>
    <ComplexSource>
      <SourceFilename relativeToVRT="1">PostPak13_Barn_hh/PostPak13_Barn_Mosaic_CV_009.tif</SourceFilename>
      <SourceBand>1</SourceBand>
      <SourceProperties RasterXSize="1251" RasterYSize="1251" DataType="Float32" BlockXSize="1251" BlockYSize="1" />
      <SrcRect xOff="0" yOff="0" xSize="1251" ySize="1251" />
      <DstRect xOff="5000" yOff="90000" xSize="1251" ySize="1251" />
      <NODATA>-32767</NODATA>
    </ComplexSource>
    <ComplexSource>
      <SourceFilename relativeToVRT="1">PostPak13_Barn_hh/PostPak13_Barn_Mosaic_BP_066.tif</SourceFilename>
      <SourceBand>1</SourceBand>
      <SourceProperties RasterXSize="1251" RasterYSize="1251" DataType="Float32" BlockXSize="1251" BlockYSize="1" />
      <SrcRect xOff="0" yOff="0" xSize="1251" ySize="1251" />
      <DstRect xOff="76250" yOff="50000" xSize="1251" ySize="1251" />
      <NODATA>-32767</NODATA>
    </ComplexSource>
    <ComplexSource>
      <SourceFilename relativeToVRT="1">PostPak13_Barn_hh/PostPak13_Barn_Mosaic_CD_045.tif</SourceFilename>
      <SourceBand>1</SourceBand>
      <SourceProperties RasterXSize="1251" RasterYSize="1251" DataType="Float32" BlockXSize="1251" BlockYSize="1" />
      <SrcRect xOff="0" yOff="0" xSize="1251" ySize="1251" />
      <DstRect xOff="50000" yOff="67500" xSize="1251" ySize="1251" />
      <NODATA>-32767</NODATA>
    </ComplexSource>
    <ComplexSource>
      <SourceFilename relativeToVRT="1">PostPak13_Barn_hh/PostPak13_Barn_Mosaic_CH_043.tif</SourceFilename>
      <SourceBand>1</SourceBand>
      <SourceProperties RasterXSize="1251" RasterYSize="1251" DataType="Float32" BlockXSize="1251" BlockYSize="1" />
      <SrcRect xOff="0" yOff="0" xSize="1251" ySize="1251" />
      <DstRect xOff="47500" yOff="72500" xSize="1251" ySize="1251" />
      <NODATA>-32767</NODATA>
    </ComplexSource>
    <ComplexSource>
      <SourceFilename relativeToVRT="1">PostPak13_Barn_hh/PostPak13_Barn_Mosaic_BE_085.tif</SourceFilename>
      <SourceBand>1</SourceBand>
      <SourceProperties RasterXSize="1251" RasterYSize="1251" DataType="Float32" BlockXSize="1251" BlockYSize="1" />
      <SrcRect xOff="0" yOff="0" xSize="1251" ySize="1251" />
      <DstRect xOff="100000" yOff="36250" xSize="1251" ySize="1251" />
      <NODATA>-32767</NODATA>
    </ComplexSource>
    <ComplexSource>
      <SourceFilename relativeToVRT="1">PostPak13_Barn_hh/PostPak13_Barn_Mosaic_CK_065.tif</SourceFilename>
      <SourceBand>1</SourceBand>
      <SourceProperties RasterXSize="1251" RasterYSize="1251" DataType="Float32" BlockXSize="1251" BlockYSize="1" />
      <SrcRect xOff="0" yOff="0" xSize="1251" ySize="1251" />
      <DstRect xOff="75000" yOff="76250" xSize="1251" ySize="1251" />
      <NODATA>-32767</NODATA>
    </ComplexSource>
    <ComplexSource>
      <SourceFilename relativeToVRT="1">PostPak13_Barn_hh/PostPak13_Barn_Mosaic_BA_090.tif</SourceFilename>
      <SourceBand>1</SourceBand>
      <SourceProperties RasterXSize="1251" RasterYSize="1251" DataType="Float32" BlockXSize="1251" BlockYSize="1" />
      <SrcRect xOff="0" yOff="0" xSize="1251" ySize="1251" />
      <DstRect xOff="106250" yOff="31250" xSize="1251" ySize="1251" />
      <NODATA>-32767</NODATA>
    </ComplexSource>
    <ComplexSource>
      <SourceFilename relativeToVRT="1">PostPak13_Barn_hh/PostPak13_Barn_Mosaic_CT_052.tif</SourceFilename>
      <SourceBand>1</SourceBand>
      <SourceProperties RasterXSize="1251" RasterYSize="1251" DataType="Float32" BlockXSize="1251" BlockYSize="1" />
      <SrcRect xOff="0" yOff="0" xSize="1251" ySize="1251" />
      <DstRect xOff="58750" yOff="87500" xSize="1251" ySize="1251" />
      <NODATA>-32767</NODATA>
    </ComplexSource>
    <ComplexSource>
      <SourceFilename relativeToVRT="1">PostPak13_Barn_hh/PostPak13_Barn_Mosaic_CI_080.tif</SourceFilename>
      <SourceBand>1</SourceBand>
      <SourceProperties RasterXSize="1251" RasterYSize="1251" DataType="Float32" BlockXSize="1251" BlockYSize="1" />
      <SrcRect xOff="0" yOff="0" xSize="1251" ySize="1251" />
      <DstRect xOff="93750" yOff="73750" xSize="1251" ySize="1251" />
      <NODATA>-32767</NODATA>
    </ComplexSource>
    <ComplexSource>
      <SourceFilename relativeToVRT="1">PostPak13_Barn_hh/PostPak13_Barn_Mosaic_AN_092.tif</SourceFilename>
      <SourceBand>1</SourceBand>
      <SourceProperties RasterXSize="1251" RasterYSize="1251" DataType="Float32" BlockXSize="1251" BlockYSize="1" />
      <SrcRect xOff="0" yOff="0" xSize="1251" ySize="1251" />
      <DstRect xOff="108750" yOff="15000" xSize="1251" ySize="1251" />
      <NODATA>-32767</NODATA>
    </ComplexSource>
    <ComplexSource>
      <SourceFilename relativeToVRT="1">PostPak13_Barn_hh/PostPak13_Barn_Mosaic_AI_085.tif</SourceFilename>
      <SourceBand>1</SourceBand>
      <SourceProperties RasterXSize="1251" RasterYSize="1251" DataType="Float32" BlockXSize="1251" BlockYSize="1" />
      <SrcRect xOff="0" yOff="0" xSize="1251" ySize="1251" />
      <DstRect xOff="100000" yOff="8750" xSize="1251" ySize="1251" />
      <NODATA>-32767</NODATA>
    </ComplexSource>
    <ComplexSource>
      <SourceFilename relativeToVRT="1">PostPak13_Barn_hh/PostPak13_Barn_Mosaic_BQ_069.tif</SourceFilename>
      <SourceBand>1</SourceBand>
      <SourceProperties RasterXSize="1251" RasterYSize="1251" DataType="Float32" BlockXSize="1251" BlockYSize="1" />
      <SrcRect xOff="0" yOff="0" xSize="1251" ySize="1251" />
      <DstRect xOff="80000" yOff="51250" xSize="1251" ySize="1251" />
      <NODATA>-32767</NODATA>
    </ComplexSource>
    <ComplexSource>
      <SourceFilename relativeToVRT="1">PostPak13_Barn_hh/PostPak13_Barn_Mosaic_BR_081.tif</SourceFilename>
      <SourceBand>1</SourceBand>
      <SourceProperties RasterXSize="1251" RasterYSize="1251" DataType="Float32" BlockXSize="1251" BlockYSize="1" />
      <SrcRect xOff="0" yOff="0" xSize="1251" ySize="1251" />
      <DstRect xOff="95000" yOff="52500" xSize="1251" ySize="1251" />
      <NODATA>-32767</NODATA>
    </ComplexSource>
    <ComplexSource>
      <SourceFilename relativeToVRT="1">PostPak13_Barn_hh/PostPak13_Barn_Mosaic_BZ_066.tif</SourceFilename>
      <SourceBand>1</SourceBand>
      <SourceProperties RasterXSize="1251" RasterYSize="1251" DataType="Float32" BlockXSize="1251" BlockYSize="1" />
      <SrcRect xOff="0" yOff="0" xSize="1251" ySize="1251" />
      <DstRect xOff="76250" yOff="62500" xSize="1251" ySize="1251" />
      <NODATA>-32767</NODATA>
    </ComplexSource>
    <ComplexSource>
      <SourceFilename relativeToVRT="1">PostPak13_Barn_hh/PostPak13_Barn_Mosaic_BD_085.tif</SourceFilename>
      <SourceBand>1</SourceBand>
      <SourceProperties RasterXSize="1251" RasterYSize="1251" DataType="Float32" BlockXSize="1251" BlockYSize="1" />
      <SrcRect xOff="0" yOff="0" xSize="1251" ySize="1251" />
      <DstRect xOff="100000" yOff="35000" xSize="1251" ySize="1251" />
      <NODATA>-32767</NODATA>
    </ComplexSource>
    <ComplexSource>
      <SourceFilename relativeToVRT="1">PostPak13_Barn_hh/PostPak13_Barn_Mosaic_DA_035.tif</SourceFilename>
      <SourceBand>1</SourceBand>
      <SourceProperties RasterXSize="1251" RasterYSize="1251" DataType="Float32" BlockXSize="1251" BlockYSize="1" />
      <SrcRect xOff="0" yOff="0" xSize="1251" ySize="1251" />
      <DstRect xOff="37500" yOff="96250" xSize="1251" ySize="1251" />
      <NODATA>-32767</NODATA>
    </ComplexSource>
    <ComplexSource>
      <SourceFilename relativeToVRT="1">PostPak13_Barn_hh/PostPak13_Barn_Mosaic_BO_086.tif</SourceFilename>
      <SourceBand>1</SourceBand>
      <SourceProperties RasterXSize="1251" RasterYSize="1251" DataType="Float32" BlockXSize="1251" BlockYSize="1" />
      <SrcRect xOff="0" yOff="0" xSize="1251" ySize="1251" />
      <DstRect xOff="101250" yOff="48750" xSize="1251" ySize="1251" />
      <NODATA>-32767</NODATA>
    </ComplexSource>
    <ComplexSource>
      <SourceFilename relativeToVRT="1">PostPak13_Barn_hh/PostPak13_Barn_Mosaic_CQ_027.tif</SourceFilename>
      <SourceBand>1</SourceBand>
      <SourceProperties RasterXSize="1251" RasterYSize="1251" DataType="Float32" BlockXSize="1251" BlockYSize="1" />
      <SrcRect xOff="0" yOff="0" xSize="1251" ySize="1251" />
      <DstRect xOff="27500" yOff="83750" xSize="1251" ySize="1251" />
      <NODATA>-32767</NODATA>
    </ComplexSource>
    <ComplexSource>
      <SourceFilename relativeToVRT="1">PostPak13_Barn_hh/PostPak13_Barn_Mosaic_CN_038.tif</SourceFilename>
      <SourceBand>1</SourceBand>
      <SourceProperties RasterXSize="1251" RasterYSize="1251" DataType="Float32" BlockXSize="1251" BlockYSize="1" />
      <SrcRect xOff="0" yOff="0" xSize="1251" ySize="1251" />
      <DstRect xOff="41250" yOff="80000" xSize="1251" ySize="1251" />
      <NODATA>-32767</NODATA>
    </ComplexSource>
    <ComplexSource>
      <SourceFilename relativeToVRT="1">PostPak13_Barn_hh/PostPak13_Barn_Mosaic_BP_080.tif</SourceFilename>
      <SourceBand>1</SourceBand>
      <SourceProperties RasterXSize="1251" RasterYSize="1251" DataType="Float32" BlockXSize="1251" BlockYSize="1" />
      <SrcRect xOff="0" yOff="0" xSize="1251" ySize="1251" />
      <DstRect xOff="93750" yOff="50000" xSize="1251" ySize="1251" />
      <NODATA>-32767</NODATA>
    </ComplexSource>
    <ComplexSource>
      <SourceFilename relativeToVRT="1">PostPak13_Barn_hh/PostPak13_Barn_Mosaic_BQ_065.tif</SourceFilename>
      <SourceBand>1</SourceBand>
      <SourceProperties RasterXSize="1251" RasterYSize="1251" DataType="Float32" BlockXSize="1251" BlockYSize="1" />
      <SrcRect xOff="0" yOff="0" xSize="1251" ySize="1251" />
      <DstRect xOff="75000" yOff="51250" xSize="1251" ySize="1251" />
      <NODATA>-32767</NODATA>
    </ComplexSource>
    <ComplexSource>
      <SourceFilename relativeToVRT="1">PostPak13_Barn_hh/PostPak13_Barn_Mosaic_CF_084.tif</SourceFilename>
      <SourceBand>1</SourceBand>
      <SourceProperties RasterXSize="1251" RasterYSize="1251" DataType="Float32" BlockXSize="1251" BlockYSize="1" />
      <SrcRect xOff="0" yOff="0" xSize="1251" ySize="1251" />
      <DstRect xOff="98750" yOff="70000" xSize="1251" ySize="1251" />
      <NODATA>-32767</NODATA>
    </ComplexSource>
    <ComplexSource>
      <SourceFilename relativeToVRT="1">PostPak13_Barn_hh/PostPak13_Barn_Mosaic_CQ_049.tif</SourceFilename>
      <SourceBand>1</SourceBand>
      <SourceProperties RasterXSize="1251" RasterYSize="1251" DataType="Float32" BlockXSize="1251" BlockYSize="1" />
      <SrcRect xOff="0" yOff="0" xSize="1251" ySize="1251" />
      <DstRect xOff="55000" yOff="83750" xSize="1251" ySize="1251" />
      <NODATA>-32767</NODATA>
    </ComplexSource>
    <ComplexSource>
      <SourceFilename relativeToVRT="1">PostPak13_Barn_hh/PostPak13_Barn_Mosaic_CE_056.tif</SourceFilename>
      <SourceBand>1</SourceBand>
      <SourceProperties RasterXSize="1251" RasterYSize="1251" DataType="Float32" BlockXSize="1251" BlockYSize="1" />
      <SrcRect xOff="0" yOff="0" xSize="1251" ySize="1251" />
      <DstRect xOff="63750" yOff="68750" xSize="1251" ySize="1251" />
      <NODATA>-32767</NODATA>
    </ComplexSource>
    <ComplexSource>
      <SourceFilename relativeToVRT="1">PostPak13_Barn_hh/PostPak13_Barn_Mosaic_BS_082.tif</SourceFilename>
      <SourceBand>1</SourceBand>
      <SourceProperties RasterXSize="1251" RasterYSize="1251" DataType="Float32" BlockXSize="1251" BlockYSize="1" />
      <SrcRect xOff="0" yOff="0" xSize="1251" ySize="1251" />
      <DstRect xOff="96250" yOff="53750" xSize="1251" ySize="1251" />
      <NODATA>-32767</NODATA>
    </ComplexSource>
    <ComplexSource>
      <SourceFilename relativeToVRT="1">PostPak13_Barn_hh/PostPak13_Barn_Mosaic_AM_089.tif</SourceFilename>
      <SourceBand>1</SourceBand>
      <SourceProperties RasterXSize="1251" RasterYSize="1251" DataType="Float32" BlockXSize="1251" BlockYSize="1" />
      <SrcRect xOff="0" yOff="0" xSize="1251" ySize="1251" />
      <DstRect xOff="105000" yOff="13750" xSize="1251" ySize="1251" />
      <NODATA>-32767</NODATA>
    </ComplexSource>
    <ComplexSource>
      <SourceFilename relativeToVRT="1">PostPak13_Barn_hh/PostPak13_Barn_Mosaic_CU_051.tif</SourceFilename>
      <SourceBand>1</SourceBand>
      <SourceProperties RasterXSize="1251" RasterYSize="1251" DataType="Float32" BlockXSize="1251" BlockYSize="1" />
      <SrcRect xOff="0" yOff="0" xSize="1251" ySize="1251" />
      <DstRect xOff="57500" yOff="88750" xSize="1251" ySize="1251" />
      <NODATA>-32767</NODATA>
    </ComplexSource>
    <ComplexSource>
      <SourceFilename relativeToVRT="1">PostPak13_Barn_hh/PostPak13_Barn_Mosaic_AV_081.tif</SourceFilename>
      <SourceBand>1</SourceBand>
      <SourceProperties RasterXSize="1251" RasterYSize="1251" DataType="Float32" BlockXSize="1251" BlockYSize="1" />
      <SrcRect xOff="0" yOff="0" xSize="1251" ySize="1251" />
      <DstRect xOff="95000" yOff="25000" xSize="1251" ySize="1251" />
      <NODATA>-32767</NODATA>
    </ComplexSource>
    <ComplexSource>
      <SourceFilename relativeToVRT="1">PostPak13_Barn_hh/PostPak13_Barn_Mosaic_CX_036.tif</SourceFilename>
      <SourceBand>1</SourceBand>
      <SourceProperties RasterXSize="1251" RasterYSize="1251" DataType="Float32" BlockXSize="1251" BlockYSize="1" />
      <SrcRect xOff="0" yOff="0" xSize="1251" ySize="1251" />
      <DstRect xOff="38750" yOff="92500" xSize="1251" ySize="1251" />
      <NODATA>-32767</NODATA>
    </ComplexSource>
    <ComplexSource>
      <SourceFilename relativeToVRT="1">PostPak13_Barn_hh/PostPak13_Barn_Mosaic_BX_082.tif</SourceFilename>
      <SourceBand>1</SourceBand>
      <SourceProperties RasterXSize="1251" RasterYSize="1251" DataType="Float32" BlockXSize="1251" BlockYSize="1" />
      <SrcRect xOff="0" yOff="0" xSize="1251" ySize="1251" />
      <DstRect xOff="96250" yOff="60000" xSize="1251" ySize="1251" />
      <NODATA>-32767</NODATA>
    </ComplexSource>
    <ComplexSource>
      <SourceFilename relativeToVRT="1">PostPak13_Barn_hh/PostPak13_Barn_Mosaic_DF_030.tif</SourceFilename>
      <SourceBand>1</SourceBand>
      <SourceProperties RasterXSize="1251" RasterYSize="1251" DataType="Float32" BlockXSize="1251" BlockYSize="1" />
      <SrcRect xOff="0" yOff="0" xSize="1251" ySize="1251" />
      <DstRect xOff="31250" yOff="102500" xSize="1251" ySize="1251" />
      <NODATA>-32767</NODATA>
    </ComplexSource>
    <ComplexSource>
      <SourceFilename relativeToVRT="1">PostPak13_Barn_hh/PostPak13_Barn_Mosaic_CY_022.tif</SourceFilename>
      <SourceBand>1</SourceBand>
      <SourceProperties RasterXSize="1251" RasterYSize="1251" DataType="Float32" BlockXSize="1251" BlockYSize="1" />
      <SrcRect xOff="0" yOff="0" xSize="1251" ySize="1251" />
      <DstRect xOff="21250" yOff="93750" xSize="1251" ySize="1251" />
      <NODATA>-32767</NODATA>
    </ComplexSource>
    <ComplexSource>
      <SourceFilename relativeToVRT="1">PostPak13_Barn_hh/PostPak13_Barn_Mosaic_CC_067.tif</SourceFilename>
      <SourceBand>1</SourceBand>
      <SourceProperties RasterXSize="1251" RasterYSize="1251" DataType="Float32" BlockXSize="1251" BlockYSize="1" />
      <SrcRect xOff="0" yOff="0" xSize="1251" ySize="1251" />
      <DstRect xOff="77500" yOff="66250" xSize="1251" ySize="1251" />
      <NODATA>-32767</NODATA>
    </ComplexSource>
    <ComplexSource>
      <SourceFilename relativeToVRT="1">PostPak13_Barn_hh/PostPak13_Barn_Mosaic_DA_020.tif</SourceFilename>
      <SourceBand>1</SourceBand>
      <SourceProperties RasterXSize="1251" RasterYSize="1251" DataType="Float32" BlockXSize="1251" BlockYSize="1" />
      <SrcRect xOff="0" yOff="0" xSize="1251" ySize="1251" />
      <DstRect xOff="18750" yOff="96250" xSize="1251" ySize="1251" />
      <NODATA>-32767</NODATA>
    </ComplexSource>
    <ComplexSource>
      <SourceFilename relativeToVRT="1">PostPak13_Barn_hh/PostPak13_Barn_Mosaic_BD_084.tif</SourceFilename>
      <SourceBand>1</SourceBand>
      <SourceProperties RasterXSize="1251" RasterYSize="1251" DataType="Float32" BlockXSize="1251" BlockYSize="1" />
      <SrcRect xOff="0" yOff="0" xSize="1251" ySize="1251" />
      <DstRect xOff="98750" yOff="35000" xSize="1251" ySize="1251" />
      <NODATA>-32767</NODATA>
    </ComplexSource>
    <ComplexSource>
      <SourceFilename relativeToVRT="1">PostPak13_Barn_hh/PostPak13_Barn_Mosaic_BS_077.tif</SourceFilename>
      <SourceBand>1</SourceBand>
      <SourceProperties RasterXSize="1251" RasterYSize="1251" DataType="Float32" BlockXSize="1251" BlockYSize="1" />
      <SrcRect xOff="0" yOff="0" xSize="1251" ySize="1251" />
      <DstRect xOff="90000" yOff="53750" xSize="1251" ySize="1251" />
      <NODATA>-32767</NODATA>
    </ComplexSource>
    <ComplexSource>
      <SourceFilename relativeToVRT="1">PostPak13_Barn_hh/PostPak13_Barn_Mosaic_CP_060.tif</SourceFilename>
      <SourceBand>1</SourceBand>
      <SourceProperties RasterXSize="1251" RasterYSize="1251" DataType="Float32" BlockXSize="1251" BlockYSize="1" />
      <SrcRect xOff="0" yOff="0" xSize="1251" ySize="1251" />
      <DstRect xOff="68750" yOff="82500" xSize="1251" ySize="1251" />
      <NODATA>-32767</NODATA>
    </ComplexSource>
    <ComplexSource>
      <SourceFilename relativeToVRT="1">PostPak13_Barn_hh/PostPak13_Barn_Mosaic_BS_072.tif</SourceFilename>
      <SourceBand>1</SourceBand>
      <SourceProperties RasterXSize="1251" RasterYSize="1251" DataType="Float32" BlockXSize="1251" BlockYSize="1" />
      <SrcRect xOff="0" yOff="0" xSize="1251" ySize="1251" />
      <DstRect xOff="83750" yOff="53750" xSize="1251" ySize="1251" />
      <NODATA>-32767</NODATA>
    </ComplexSource>
    <ComplexSource>
      <SourceFilename relativeToVRT="1">PostPak13_Barn_hh/PostPak13_Barn_Mosaic_AH_088.tif</SourceFilename>
      <SourceBand>1</SourceBand>
      <SourceProperties RasterXSize="1251" RasterYSize="1251" DataType="Float32" BlockXSize="1251" BlockYSize="1" />
      <SrcRect xOff="0" yOff="0" xSize="1251" ySize="1251" />
      <DstRect xOff="103750" yOff="7500" xSize="1251" ySize="1251" />
      <NODATA>-32767</NODATA>
    </ComplexSource>
    <ComplexSource>
      <SourceFilename relativeToVRT="1">PostPak13_Barn_hh/PostPak13_Barn_Mosaic_CO_051.tif</SourceFilename>
      <SourceBand>1</SourceBand>
      <SourceProperties RasterXSize="1251" RasterYSize="1251" DataType="Float32" BlockXSize="1251" BlockYSize="1" />
      <SrcRect xOff="0" yOff="0" xSize="1251" ySize="1251" />
      <DstRect xOff="57500" yOff="81250" xSize="1251" ySize="1251" />
      <NODATA>-32767</NODATA>
    </ComplexSource>
    <ComplexSource>
      <SourceFilename relativeToVRT="1">PostPak13_Barn_hh/PostPak13_Barn_Mosaic_CA_045.tif</SourceFilename>
      <SourceBand>1</SourceBand>
      <SourceProperties RasterXSize="1251" RasterYSize="1251" DataType="Float32" BlockXSize="1251" BlockYSize="1" />
      <SrcRect xOff="0" yOff="0" xSize="1251" ySize="1251" />
      <DstRect xOff="50000" yOff="63750" xSize="1251" ySize="1251" />
      <NODATA>-32767</NODATA>
    </ComplexSource>
    <ComplexSource>
      <SourceFilename relativeToVRT="1">PostPak13_Barn_hh/PostPak13_Barn_Mosaic_CG_042.tif</SourceFilename>
      <SourceBand>1</SourceBand>
      <SourceProperties RasterXSize="1251" RasterYSize="1251" DataType="Float32" BlockXSize="1251" BlockYSize="1" />
      <SrcRect xOff="0" yOff="0" xSize="1251" ySize="1251" />
      <DstRect xOff="46250" yOff="71250" xSize="1251" ySize="1251" />
      <NODATA>-32767</NODATA>
    </ComplexSource>
    <ComplexSource>
      <SourceFilename relativeToVRT="1">PostPak13_Barn_hh/PostPak13_Barn_Mosaic_CM_079.tif</SourceFilename>
      <SourceBand>1</SourceBand>
      <SourceProperties RasterXSize="1251" RasterYSize="1251" DataType="Float32" BlockXSize="1251" BlockYSize="1" />
      <SrcRect xOff="0" yOff="0" xSize="1251" ySize="1251" />
      <DstRect xOff="92500" yOff="78750" xSize="1251" ySize="1251" />
      <NODATA>-32767</NODATA>
    </ComplexSource>
    <ComplexSource>
      <SourceFilename relativeToVRT="1">PostPak13_Barn_hh/PostPak13_Barn_Mosaic_BO_085.tif</SourceFilename>
      <SourceBand>1</SourceBand>
      <SourceProperties RasterXSize="1251" RasterYSize="1251" DataType="Float32" BlockXSize="1251" BlockYSize="1" />
      <SrcRect xOff="0" yOff="0" xSize="1251" ySize="1251" />
      <DstRect xOff="100000" yOff="48750" xSize="1251" ySize="1251" />
      <NODATA>-32767</NODATA>
    </ComplexSource>
    <ComplexSource>
      <SourceFilename relativeToVRT="1">PostPak13_Barn_hh/PostPak13_Barn_Mosaic_CK_043.tif</SourceFilename>
      <SourceBand>1</SourceBand>
      <SourceProperties RasterXSize="1251" RasterYSize="1251" DataType="Float32" BlockXSize="1251" BlockYSize="1" />
      <SrcRect xOff="0" yOff="0" xSize="1251" ySize="1251" />
      <DstRect xOff="47500" yOff="76250" xSize="1251" ySize="1251" />
      <NODATA>-32767</NODATA>
    </ComplexSource>
    <ComplexSource>
      <SourceFilename relativeToVRT="1">PostPak13_Barn_hh/PostPak13_Barn_Mosaic_CO_045.tif</SourceFilename>
      <SourceBand>1</SourceBand>
      <SourceProperties RasterXSize="1251" RasterYSize="1251" DataType="Float32" BlockXSize="1251" BlockYSize="1" />
      <SrcRect xOff="0" yOff="0" xSize="1251" ySize="1251" />
      <DstRect xOff="50000" yOff="81250" xSize="1251" ySize="1251" />
      <NODATA>-32767</NODATA>
    </ComplexSource>
    <ComplexSource>
      <SourceFilename relativeToVRT="1">PostPak13_Barn_hh/PostPak13_Barn_Mosaic_BL_089.tif</SourceFilename>
      <SourceBand>1</SourceBand>
      <SourceProperties RasterXSize="1251" RasterYSize="1251" DataType="Float32" BlockXSize="1251" BlockYSize="1" />
      <SrcRect xOff="0" yOff="0" xSize="1251" ySize="1251" />
      <DstRect xOff="105000" yOff="45000" xSize="1251" ySize="1251" />
      <NODATA>-32767</NODATA>
    </ComplexSource>
    <ComplexSource>
      <SourceFilename relativeToVRT="1">PostPak13_Barn_hh/PostPak13_Barn_Mosaic_CH_072.tif</SourceFilename>
      <SourceBand>1</SourceBand>
      <SourceProperties RasterXSize="1251" RasterYSize="1251" DataType="Float32" BlockXSize="1251" BlockYSize="1" />
      <SrcRect xOff="0" yOff="0" xSize="1251" ySize="1251" />
      <DstRect xOff="83750" yOff="72500" xSize="1251" ySize="1251" />
