<VRTDataset rasterXSize="126000" rasterYSize="151200">
  <SRS>PROJCS["NAD83(HARN) / California zone 2 (ftUS)",GEOGCS["NAD83(HARN)",DATUM["NAD83_High_Accuracy_Reference_Network",SPHEROID["GRS 1980",6378137,298.257222101,AUTHORITY["EPSG","7019"]],TOWGS84[0,0,0,0,0,0,0],AUTHORITY["EPSG","6152"]],PRIMEM["Greenwich",0,AUTHORITY["EPSG","8901"]],UNIT["degree",0.0174532925199433,AUTHORITY["EPSG","9122"]],AUTHORITY["EPSG","4152"]],PROJECTION["Lambert_Conformal_Conic_2SP"],PARAMETER["standard_parallel_1",39.83333333333334],PARAMETER["standard_parallel_2",38.33333333333334],PARAMETER["latitude_of_origin",37.66666666666666],PARAMETER["central_meridian",-122],PARAMETER["false_easting",6561666.667],PARAMETER["false_northing",1640416.667],UNIT["US survey foot",0.3048006096012192,AUTHORITY["EPSG","9003"]],AXIS["X",EAST],AXIS["Y",NORTH],AUTHORITY["EPSG","2871"]]</SRS>
  <GeoTransform>  6.1190169999999972e+06,  3.0000000000000000e+00,  0.0000000000000000e+00,  2.2508020000000009e+06,  0.0000000000000000e+00, -3.0000000000000000e+00</GeoTransform>
  <VRTRasterBand dataType="Float32" band="1">
    <NoDataValue>-3.40282346638529E+38</NoDataValue>
    <ComplexSource>
      <SourceFilename relativeToVRT="1">SONOMA_LIDAR_hh/hh_soco_0053/*.adf</SourceFilename>
      <SourceBand>1</SourceBand>
      <SourceProperties RasterXSize="12600" RasterYSize="12600" DataType="Float32" BlockXSize="256" BlockYSize="16" />
      <SrcRect xOff="0" yOff="0" xSize="12600" ySize="12600" />
      <DstRect xOff="25200" yOff="75600" xSize="12600" ySize="12600" />
      <NODATA>-3.40282e+38</NODATA>
    </ComplexSource>
    <ComplexSource>
      <SourceFilename relativeToVRT="1">SONOMA_LIDAR_hh/hh_soco_0016/*.adf</SourceFilename>
      <SourceBand>1</SourceBand>
      <SourceProperties RasterXSize="12600" RasterYSize="12600" DataType="Float32" BlockXSize="256" BlockYSize="16" />
      <SrcRect xOff="0" yOff="0" xSize="12600" ySize="12600" />
      <DstRect xOff="63000" yOff="126000" xSize="12600" ySize="12600" />
      <NODATA>-3.40282e+38</NODATA>
    </ComplexSource>
    <ComplexSource>
      <SourceFilename relativeToVRT="1">SONOMA_LIDAR_hh/hh_soco_0008/*.adf</SourceFilename>
      <SourceBand>1</SourceBand>
      <SourceProperties RasterXSize="12600" RasterYSize="12600" DataType="Float32" BlockXSize="256" BlockYSize="16" />
      <SrcRect xOff="0" yOff="0" xSize="12600" ySize="12600" />
      <DstRect xOff="88200" yOff="138600" xSize="12600" ySize="12600" />
      <NODATA>-3.40282e+38</NODATA>
    </ComplexSource>
    <ComplexSource>
      <SourceFilename relativeToVRT="1">SONOMA_LIDAR_hh/hh_soco_0061/*.adf</SourceFilename>
      <SourceBand>1</SourceBand>
      <SourceProperties RasterXSize="12600" RasterYSize="12600" DataType="Float32" BlockXSize="256" BlockYSize="16" />
      <SrcRect xOff="0" yOff="0" xSize="12600" ySize="12600" />
      <DstRect xOff="0" yOff="63000" xSize="12600" ySize="12600" />
      <NODATA>-3.40282e+38</NODATA>
    </ComplexSource>
    <ComplexSource>
      <SourceFilename relativeToVRT="1">SONOMA_LIDAR_hh/hh_soco_0015/*.adf</SourceFilename>
      <SourceBand>1</SourceBand>
      <SourceProperties RasterXSize="12600" RasterYSize="12600" DataType="Float32" BlockXSize="256" BlockYSize="16" />
      <SrcRect xOff="0" yOff="0" xSize="12600" ySize="12600" />
      <DstRect xOff="50400" yOff="126000" xSize="12600" ySize="12600" />
      <NODATA>-3.40282e+38</NODATA>
    </ComplexSource>
    <ComplexSource>
      <SourceFilename relativeToVRT="1">SONOMA_LIDAR_hh/hh_soco_0054/*.adf</SourceFilename>
      <SourceBand>1</SourceBand>
      <SourceProperties RasterXSize="12600" RasterYSize="12600" DataType="Float32" BlockXSize="256" BlockYSize="16" />
      <SrcRect xOff="0" yOff="0" xSize="12600" ySize="12600" />
      <DstRect xOff="37800" yOff="75600" xSize="12600" ySize="12600" />
      <NODATA>-3.40282e+38</NODATA>
    </ComplexSource>
    <ComplexSource>
      <SourceFilename relativeToVRT="1">SONOMA_LIDAR_hh/hh_soco_0114/*.adf</SourceFilename>
      <SourceBand>1</SourceBand>
      <SourceProperties RasterXSize="12600" RasterYSize="12600" DataType="Float32" BlockXSize="256" BlockYSize="16" />
      <SrcRect xOff="0" yOff="0" xSize="12600" ySize="12600" />
      <DstRect xOff="37800" yOff="0" xSize="12600" ySize="12600" />
      <NODATA>-3.40282e+38</NODATA>
    </ComplexSource>
    <ComplexSource>
      <SourceFilename relativeToVRT="1">SONOMA_LIDAR_hh/hh_soco_0043/*.adf</SourceFilename>
      <SourceBand>1</SourceBand>
      <SourceProperties RasterXSize="12600" RasterYSize="12600" DataType="Float32" BlockXSize="256" BlockYSize="16" />
      <SrcRect xOff="0" yOff="0" xSize="12600" ySize="12600" />
      <DstRect xOff="25200" yOff="88200" xSize="12600" ySize="12600" />
      <NODATA>-3.40282e+38</NODATA>
    </ComplexSource>
    <ComplexSource>
      <SourceFilename relativeToVRT="1">SONOMA_LIDAR_hh/hh_soco_0017/*.adf</SourceFilename>
      <SourceBand>1</SourceBand>
      <SourceProperties RasterXSize="12600" RasterYSize="12600" DataType="Float32" BlockXSize="256" BlockYSize="16" />
      <SrcRect xOff="0" yOff="0" xSize="12600" ySize="12600" />
      <DstRect xOff="75600" yOff="126000" xSize="12600" ySize="12600" />
      <NODATA>-3.40282e+38</NODATA>
    </ComplexSource>
    <ComplexSource>
      <SourceFilename relativeToVRT="1">SONOMA_LIDAR_hh/hh_soco_0045/*.adf</SourceFilename>
      <SourceBand>1</SourceBand>
      <SourceProperties RasterXSize="12600" RasterYSize="12600" DataType="Float32" BlockXSize="256" BlockYSize="16" />
      <SrcRect xOff="0" yOff="0" xSize="12600" ySize="12600" />
      <DstRect xOff="50400" yOff="88200" xSize="12600" ySize="12600" />
      <NODATA>-3.40282e+38</NODATA>
    </ComplexSource>
    <ComplexSource>
      <SourceFilename relativeToVRT="1">SONOMA_LIDAR_hh/hh_soco_0057/*.adf</SourceFilename>
      <SourceBand>1</SourceBand>
      <SourceProperties RasterXSize="12600" RasterYSize="12600" DataType="Float32" BlockXSize="256" BlockYSize="16" />
      <SrcRect xOff="0" yOff="0" xSize="12600" ySize="12600" />
      <DstRect xOff="75600" yOff="75600" xSize="12600" ySize="12600" />
      <NODATA>-3.40282e+38</NODATA>
    </ComplexSource>
    <ComplexSource>
      <SourceFilename relativeToVRT="1">SONOMA_LIDAR_hh/hh_soco_0042/*.adf</SourceFilename>
      <SourceBand>1</SourceBand>
      <SourceProperties RasterXSize="12600" RasterYSize="12600" DataType="Float32" BlockXSize="256" BlockYSize="16" />
      <SrcRect xOff="0" yOff="0" xSize="12600" ySize="12600" />
      <DstRect xOff="12600" yOff="88200" xSize="12600" ySize="12600" />
      <NODATA>-3.40282e+38</NODATA>
    </ComplexSource>
    <ComplexSource>
      <SourceFilename relativeToVRT="1">SONOMA_LIDAR_hh/hh_soco_0103/*.adf</SourceFilename>
      <SourceBand>1</SourceBand>
      <SourceProperties RasterXSize="12600" RasterYSize="12600" DataType="Float32" BlockXSize="256" BlockYSize="16" />
      <SrcRect xOff="0" yOff="0" xSize="12600" ySize="12600" />
      <DstRect xOff="25200" yOff="12600" xSize="12600" ySize="12600" />
      <NODATA>-3.40282e+38</NODATA>
    </ComplexSource>
    <ComplexSource>
      <SourceFilename relativeToVRT="1">SONOMA_LIDAR_hh/hh_soco_0035/*.adf</SourceFilename>
      <SourceBand>1</SourceBand>
      <SourceProperties RasterXSize="12600" RasterYSize="12600" DataType="Float32" BlockXSize="256" BlockYSize="16" />
      <SrcRect xOff="0" yOff="0" xSize="12600" ySize="12600" />
      <DstRect xOff="50400" yOff="100800" xSize="12600" ySize="12600" />
      <NODATA>-3.40282e+38</NODATA>
    </ComplexSource>
    <ComplexSource>
      <SourceFilename relativeToVRT="1">SONOMA_LIDAR_hh/hh_soco_0073/*.adf</SourceFilename>
      <SourceBand>1</SourceBand>
      <SourceProperties RasterXSize="12600" RasterYSize="12600" DataType="Float32" BlockXSize="256" BlockYSize="16" />
      <SrcRect xOff="0" yOff="0" xSize="12600" ySize="12600" />
      <DstRect xOff="25200" yOff="50400" xSize="12600" ySize="12600" />
      <NODATA>-3.40282e+38</NODATA>
    </ComplexSource>
    <ComplexSource>
      <SourceFilename relativeToVRT="1">SONOMA_LIDAR_hh/hh_soco_0020/*.adf</SourceFilename>
      <SourceBand>1</SourceBand>
      <SourceProperties RasterXSize="12600" RasterYSize="12600" DataType="Float32" BlockXSize="256" BlockYSize="16" />
      <SrcRect xOff="0" yOff="0" xSize="12600" ySize="12600" />
      <DstRect xOff="113400" yOff="126000" xSize="12600" ySize="12600" />
      <NODATA>-3.40282e+38</NODATA>
    </ComplexSource>
    <ComplexSource>
      <SourceFilename relativeToVRT="1">SONOMA_LIDAR_hh/hh_soco_0018/*.adf</SourceFilename>
      <SourceBand>1</SourceBand>
      <SourceProperties RasterXSize="12600" RasterYSize="12600" DataType="Float32" BlockXSize="256" BlockYSize="16" />
      <SrcRect xOff="0" yOff="0" xSize="12600" ySize="12600" />
      <DstRect xOff="88200" yOff="126000" xSize="12600" ySize="12600" />
      <NODATA>-3.40282e+38</NODATA>
    </ComplexSource>
    <ComplexSource>
      <SourceFilename relativeToVRT="1">SONOMA_LIDAR_hh/hh_soco_0007/*.adf</SourceFilename>
      <SourceBand>1</SourceBand>
      <SourceProperties RasterXSize="12600" RasterYSize="12600" DataType="Float32" BlockXSize="256" BlockYSize="16" />
      <SrcRect xOff="0" yOff="0" xSize="12600" ySize="12600" />
      <DstRect xOff="75600" yOff="138600" xSize="12600" ySize="12600" />
      <NODATA>-3.40282e+38</NODATA>
    </ComplexSource>
    <ComplexSource>
      <SourceFilename relativeToVRT="1">SONOMA_LIDAR_hh/hh_soco_0064/*.adf</SourceFilename>
      <SourceBand>1</SourceBand>
      <SourceProperties RasterXSize="12600" RasterYSize="12600" DataType="Float32" BlockXSize="256" BlockYSize="16" />
      <SrcRect xOff="0" yOff="0" xSize="12600" ySize="12600" />
      <DstRect xOff="37800" yOff="63000" xSize="12600" ySize="12600" />
      <NODATA>-3.40282e+38</NODATA>
    </ComplexSource>
    <ComplexSource>
      <SourceFilename relativeToVRT="1">SONOMA_LIDAR_hh/hh_soco_0058/*.adf</SourceFilename>
      <SourceBand>1</SourceBand>
      <SourceProperties RasterXSize="12600" RasterYSize="12600" DataType="Float32" BlockXSize="256" BlockYSize="16" />
      <SrcRect xOff="0" yOff="0" xSize="12600" ySize="12600" />
      <DstRect xOff="88200" yOff="75600" xSize="12600" ySize="12600" />
      <NODATA>-3.40282e+38</NODATA>
    </ComplexSource>
    <ComplexSource>
      <SourceFilename relativeToVRT="1">SONOMA_LIDAR_hh/hh_soco_0083/*.adf</SourceFilename>
      <SourceBand>1</SourceBand>
      <SourceProperties RasterXSize="12600" RasterYSize="12600" DataType="Float32" BlockXSize="256" BlockYSize="16" />
      <SrcRect xOff="0" yOff="0" xSize="12600" ySize="12600" />
      <DstRect xOff="25200" yOff="37800" xSize="12600" ySize="12600" />
      <NODATA>-3.40282e+38</NODATA>
    </ComplexSource>
    <ComplexSource>
      <SourceFilename relativeToVRT="1">SONOMA_LIDAR_hh/hh_soco_0033/*.adf</SourceFilename>
      <SourceBand>1</SourceBand>
      <SourceProperties RasterXSize="12600" RasterYSize="12600" DataType="Float32" BlockXSize="256" BlockYSize="16" />
      <SrcRect xOff="0" yOff="0" xSize="12600" ySize="12600" />
      <DstRect xOff="25200" yOff="100800" xSize="12600" ySize="12600" />
      <NODATA>-3.40282e+38</NODATA>
    </ComplexSource>
    <ComplexSource>
      <SourceFilename relativeToVRT="1">SONOMA_LIDAR_hh/hh_soco_0062/*.adf</SourceFilename>
      <SourceBand>1</SourceBand>
      <SourceProperties RasterXSize="12600" RasterYSize="12600" DataType="Float32" BlockXSize="256" BlockYSize="16" />
      <SrcRect xOff="0" yOff="0" xSize="12600" ySize="12600" />
      <DstRect xOff="12600" yOff="63000" xSize="12600" ySize="12600" />
      <NODATA>-3.40282e+38</NODATA>
    </ComplexSource>
    <ComplexSource>
      <SourceFilename relativeToVRT="1">SONOMA_LIDAR_hh/hh_soco_0067/*.adf</SourceFilename>
      <SourceBand>1</SourceBand>
      <SourceProperties RasterXSize="12600" RasterYSize="12600" DataType="Float32" BlockXSize="256" BlockYSize="16" />
      <SrcRect xOff="0" yOff="0" xSize="12600" ySize="12600" />
      <DstRect xOff="75600" yOff="63000" xSize="12600" ySize="12600" />
      <NODATA>-3.40282e+38</NODATA>
    </ComplexSource>
    <ComplexSource>
      <SourceFilename relativeToVRT="1">SONOMA_LIDAR_hh/hh_soco_0063/*.adf</SourceFilename>
      <SourceBand>1</SourceBand>
      <SourceProperties RasterXSize="12600" RasterYSize="12600" DataType="Float32" BlockXSize="256" BlockYSize="16" />
      <SrcRect xOff="0" yOff="0" xSize="12600" ySize="12600" />
      <DstRect xOff="25200" yOff="63000" xSize="12600" ySize="12600" />
      <NODATA>-3.40282e+38</NODATA>
    </ComplexSource>
    <ComplexSource>
      <SourceFilename relativeToVRT="1">SONOMA_LIDAR_hh/hh_soco_0019/*.adf</SourceFilename>
      <SourceBand>1</SourceBand>
      <SourceProperties RasterXSize="12600" RasterYSize="12600" DataType="Float32" BlockXSize="256" BlockYSize="16" />
      <SrcRect xOff="0" yOff="0" xSize="12600" ySize="12600" />
      <DstRect xOff="100800" yOff="126000" xSize="12600" ySize="12600" />
      <NODATA>-3.40282e+38</NODATA>
    </ComplexSource>
    <ComplexSource>
      <SourceFilename relativeToVRT="1">SONOMA_LIDAR_hh/hh_soco_0104/*.adf</SourceFilename>
      <SourceBand>1</SourceBand>
      <SourceProperties RasterXSize="12600" RasterYSize="12600" DataType="Float32" BlockXSize="256" BlockYSize="16" />
      <SrcRect xOff="0" yOff="0" xSize="12600" ySize="12600" />
      <DstRect xOff="37800" yOff="12600" xSize="12600" ySize="12600" />
      <NODATA>-3.40282e+38</NODATA>
    </ComplexSource>
    <ComplexSource>
      <SourceFilename relativeToVRT="1">SONOMA_LIDAR_hh/hh_soco_0051/*.adf</SourceFilename>
      <SourceBand>1</SourceBand>
      <SourceProperties RasterXSize="12600" RasterYSize="12600" DataType="Float32" BlockXSize="256" BlockYSize="16" />
      <SrcRect xOff="0" yOff="0" xSize="12600" ySize="12600" />
      <DstRect xOff="0" yOff="75600" xSize="12600" ySize="12600" />
      <NODATA>-3.40282e+38</NODATA>
    </ComplexSource>
    <ComplexSource>
      <SourceFilename relativeToVRT="1">SONOMA_LIDAR_hh/hh_soco_0046/*.adf</SourceFilename>
      <SourceBand>1</SourceBand>
      <SourceProperties RasterXSize="12600" RasterYSize="12600" DataType="Float32" BlockXSize="256" BlockYSize="16" />
      <SrcRect xOff="0" yOff="0" xSize="12600" ySize="12600" />
      <DstRect xOff="63000" yOff="88200" xSize="12600" ySize="12600" />
      <NODATA>-3.40282e+38</NODATA>
    </ComplexSource>
    <ComplexSource>
      <SourceFilename relativeToVRT="1">SONOMA_LIDAR_hh/hh_soco_0038/*.adf</SourceFilename>
      <SourceBand>1</SourceBand>
      <SourceProperties RasterXSize="12600" RasterYSize="12600" DataType="Float32" BlockXSize="256" BlockYSize="16" />
      <SrcRect xOff="0" yOff="0" xSize="12600" ySize="12600" />
      <DstRect xOff="88200" yOff="100800" xSize="12600" ySize="12600" />
      <NODATA>-3.40282e+38</NODATA>
    </ComplexSource>
    <ComplexSource>
      <SourceFilename relativeToVRT="1">SONOMA_LIDAR_hh/hh_soco_0027/*.adf</SourceFilename>
      <SourceBand>1</SourceBand>
      <SourceProperties RasterXSize="12600" RasterYSize="12600" DataType="Float32" BlockXSize="256" BlockYSize="16" />
      <SrcRect xOff="0" yOff="0" xSize="12600" ySize="12600" />
      <DstRect xOff="75600" yOff="113400" xSize="12600" ySize="12600" />
      <NODATA>-3.40282e+38</NODATA>
    </ComplexSource>
    <ComplexSource>
      <SourceFilename relativeToVRT="1">SONOMA_LIDAR_hh/hh_soco_0034/*.adf</SourceFilename>
      <SourceBand>1</SourceBand>
      <SourceProperties RasterXSize="12600" RasterYSize="12600" DataType="Float32" BlockXSize="256" BlockYSize="16" />
      <SrcRect xOff="0" yOff="0" xSize="12600" ySize="12600" />
      <DstRect xOff="37800" yOff="100800" xSize="12600" ySize="12600" />
      <NODATA>-3.40282e+38</NODATA>
    </ComplexSource>
    <ComplexSource>
      <SourceFilename relativeToVRT="1">SONOMA_LIDAR_hh/hh_soco_0047/*.adf</SourceFilename>
      <SourceBand>1</SourceBand>
      <SourceProperties RasterXSize="12600" RasterYSize="12600" DataType="Float32" BlockXSize="256" BlockYSize="16" />
      <SrcRect xOff="0" yOff="0" xSize="12600" ySize="12600" />
      <DstRect xOff="75600" yOff="88200" xSize="12600" ySize="12600" />
      <NODATA>-3.40282e+38</NODATA>
    </ComplexSource>
    <ComplexSource>
      <SourceFilename relativeToVRT="1">SONOMA_LIDAR_hh/hh_soco_0074/*.adf</SourceFilename>
      <SourceBand>1</SourceBand>
      <SourceProperties RasterXSize="12600" RasterYSize="12600" DataType="Float32" BlockXSize="256" BlockYSize="16" />
      <SrcRect xOff="0" yOff="0" xSize="12600" ySize="12600" />
      <DstRect xOff="37800" yOff="50400" xSize="12600" ySize="12600" />
      <NODATA>-3.40282e+38</NODATA>
    </ComplexSource>
    <ComplexSource>
      <SourceFilename relativeToVRT="1">SONOMA_LIDAR_hh/hh_soco_0048/*.adf</SourceFilename>
      <SourceBand>1</SourceBand>
      <SourceProperties RasterXSize="12600" RasterYSize="12600" DataType="Float32" BlockXSize="256" BlockYSize="16" />
      <SrcRect xOff="0" yOff="0" xSize="12600" ySize="12600" />
      <DstRect xOff="88200" yOff="88200" xSize="12600" ySize="12600" />
      <NODATA>-3.40282e+38</NODATA>
    </ComplexSource>
    <ComplexSource>
      <SourceFilename relativeToVRT="1">SONOMA_LIDAR_hh/hh_soco_0039/*.adf</SourceFilename>
      <SourceBand>1</SourceBand>
      <SourceProperties RasterXSize="12600" RasterYSize="12600" DataType="Float32" BlockXSize="256" BlockYSize="16" />
      <SrcRect xOff="0" yOff="0" xSize="12600" ySize="12600" />
      <DstRect xOff="100800" yOff="100800" xSize="12600" ySize="12600" />
      <NODATA>-3.40282e+38</NODATA>
    </ComplexSource>
    <ComplexSource>
      <SourceFilename relativeToVRT="1">SONOMA_LIDAR_hh/hh_soco_0055/*.adf</SourceFilename>
      <SourceBand>1</SourceBand>
      <SourceProperties RasterXSize="12600" RasterYSize="12600" DataType="Float32" BlockXSize="256" BlockYSize="16" />
      <SrcRect xOff="0" yOff="0" xSize="12600" ySize="12600" />
      <DstRect xOff="50400" yOff="75600" xSize="12600" ySize="12600" />
      <NODATA>-3.40282e+38</NODATA>
    </ComplexSource>
    <ComplexSource>
      <SourceFilename relativeToVRT="1">SONOMA_LIDAR_hh/hh_soco_0036/*.adf</SourceFilename>
      <SourceBand>1</SourceBand>
      <SourceProperties RasterXSize="12600" RasterYSize="12600" DataType="Float32" BlockXSize="256" BlockYSize="16" />
      <SrcRect xOff="0" yOff="0" xSize="12600" ySize="12600" />
      <DstRect xOff="63000" yOff="100800" xSize="12600" ySize="12600" />
      <NODATA>-3.40282e+38</NODATA>
    </ComplexSource>
    <ComplexSource>
      <SourceFilename relativeToVRT="1">SONOMA_LIDAR_hh/hh_soco_0028/*.adf</SourceFilename>
      <SourceBand>1</SourceBand>
      <SourceProperties RasterXSize="12600" RasterYSize="12600" DataType="Float32" BlockXSize="256" BlockYSize="16" />
      <SrcRect xOff="0" yOff="0" xSize="12600" ySize="12600" />
      <DstRect xOff="88200" yOff="113400" xSize="12600" ySize="12600" />
      <NODATA>-3.40282e+38</NODATA>
    </ComplexSource>
    <ComplexSource>
      <SourceFilename relativeToVRT="1">SONOMA_LIDAR_hh/hh_soco_0052/*.adf</SourceFilename>
      <SourceBand>1</SourceBand>
      <SourceProperties RasterXSize="12600" RasterYSize="12600" DataType="Float32" BlockXSize="256" BlockYSize="16" />
      <SrcRect xOff="0" yOff="0" xSize="12600" ySize="12600" />
      <DstRect xOff="12600" yOff="75600" xSize="12600" ySize="12600" />
      <NODATA>-3.40282e+38</NODATA>
    </ComplexSource>
    <ComplexSource>
      <SourceFilename relativeToVRT="1">SONOMA_LIDAR_hh/hh_soco_0044/*.adf</SourceFilename>
      <SourceBand>1</SourceBand>
      <SourceProperties RasterXSize="12600" RasterYSize="12600" DataType="Float32" BlockXSize="256" BlockYSize="16" />
      <SrcRect xOff="0" yOff="0" xSize="12600" ySize="12600" />
      <DstRect xOff="37800" yOff="88200" xSize="12600" ySize="12600" />
      <NODATA>-3.40282e+38</NODATA>
    </ComplexSource>
    <ComplexSource>
      <SourceFilename relativeToVRT="1">SONOMA_LIDAR_hh/hh_soco_0076/*.adf</SourceFilename>
      <SourceBand>1</SourceBand>
      <SourceProperties RasterXSize="12600" RasterYSize="12600" DataType="Float32" BlockXSize="256" BlockYSize="16" />
      <SrcRect xOff="0" yOff="0" xSize="12600" ySize="12600" />
      <DstRect xOff="63000" yOff="50400" xSize="12600" ySize="12600" />
      <NODATA>-3.40282e+38</NODATA>
    </ComplexSource>
    <ComplexSource>
      <SourceFilename relativeToVRT="1">SONOMA_LIDAR_hh/hh_soco_0014/*.adf</SourceFilename>
      <SourceBand>1</SourceBand>
      <SourceProperties RasterXSize="12600" RasterYSize="12600" DataType="Float32" BlockXSize="256" BlockYSize="16" />
      <SrcRect xOff="0" yOff="0" xSize="12600" ySize="12600" />
      <DstRect xOff="37800" yOff="126000" xSize="12600" ySize="12600" />
      <NODATA>-3.40282e+38</NODATA>
    </ComplexSource>
    <ComplexSource>
      <SourceFilename relativeToVRT="1">SONOMA_LIDAR_hh/hh_soco_0113/*.adf</SourceFilename>
      <SourceBand>1</SourceBand>
      <SourceProperties RasterXSize="12600" RasterYSize="12600" DataType="Float32" BlockXSize="256" BlockYSize="16" />
      <SrcRect xOff="0" yOff="0" xSize="12600" ySize="12600" />
      <DstRect xOff="25200" yOff="0" xSize="12600" ySize="12600" />
      <NODATA>-3.40282e+38</NODATA>
    </ComplexSource>
    <ComplexSource>
      <SourceFilename relativeToVRT="1">SONOMA_LIDAR_hh/hh_soco_0065/*.adf</SourceFilename>
      <SourceBand>1</SourceBand>
      <SourceProperties RasterXSize="12600" RasterYSize="12600" DataType="Float32" BlockXSize="256" BlockYSize="16" />
      <SrcRect xOff="0" yOff="0" xSize="12600" ySize="12600" />
      <DstRect xOff="50400" yOff="63000" xSize="12600" ySize="12600" />
      <NODATA>-3.40282e+38</NODATA>
    </ComplexSource>
    <ComplexSource>
      <SourceFilename relativeToVRT="1">SONOMA_LIDAR_hh/hh_soco_0024/*.adf</SourceFilename>
      <SourceBand>1</SourceBand>
      <SourceProperties RasterXSize="12600" RasterYSize="12600" DataType="Float32" BlockXSize="256" BlockYSize="16" />
      <SrcRect xOff="0" yOff="0" xSize="12600" ySize="12600" />
      <DstRect xOff="37800" yOff="113400" xSize="12600" ySize="12600" />
      <NODATA>-3.40282e+38</NODATA>
    </ComplexSource>
    <ComplexSource>
      <SourceFilename relativeToVRT="1">SONOMA_LIDAR_hh/hh_soco_0056/*.adf</SourceFilename>
      <SourceBand>1</SourceBand>
      <SourceProperties RasterXSize="12600" RasterYSize="12600" DataType="Float32" BlockXSize="256" BlockYSize="16" />
      <SrcRect xOff="0" yOff="0" xSize="12600" ySize="12600" />
      <DstRect xOff="63000" yOff="75600" xSize="12600" ySize="12600" />
      <NODATA>-3.40282e+38</NODATA>
    </ComplexSource>
    <ComplexSource>
      <SourceFilename relativeToVRT="1">SONOMA_LIDAR_hh/hh_soco_0029/*.adf</SourceFilename>
      <SourceBand>1</SourceBand>
      <SourceProperties RasterXSize="12600" RasterYSize="12600" DataType="Float32" BlockXSize="256" BlockYSize="16" />
      <SrcRect xOff="0" yOff="0" xSize="12600" ySize="12600" />
      <DstRect xOff="100800" yOff="113400" xSize="12600" ySize="12600" />
      <NODATA>-3.40282e+38</NODATA>
    </ComplexSource>
    <ComplexSource>
      <SourceFilename relativeToVRT="1">SONOMA_LIDAR_hh/hh_soco_0025/*.adf</SourceFilename>
      <SourceBand>1</SourceBand>
      <SourceProperties RasterXSize="12600" RasterYSize="12600" DataType="Float32" BlockXSize="256" BlockYSize="16" />
      <SrcRect xOff="0" yOff="0" xSize="12600" ySize="12600" />
      <DstRect xOff="50400" yOff="113400" xSize="12600" ySize="12600" />
      <NODATA>-3.40282e+38</NODATA>
    </ComplexSource>
    <ComplexSource>
      <SourceFilename relativeToVRT="1">SONOMA_LIDAR_hh/hh_soco_0075/*.adf</SourceFilename>
      <SourceBand>1</SourceBand>
      <SourceProperties RasterXSize="12600" RasterYSize="12600" DataType="Float32" BlockXSize="256" BlockYSize="16" />
      <SrcRect xOff="0" yOff="0" xSize="12600" ySize="12600" />
      <DstRect xOff="50400" yOff="50400" xSize="12600" ySize="12600" />
      <NODATA>-3.40282e+38</NODATA>
