<VRTDataset rasterXSize="126000" rasterYSize="151200">
  <SRS>PROJCS["NAD83(HARN) / California zone 2 (ftUS)",GEOGCS["NAD83(HARN)",DATUM["NAD83_High_Accuracy_Reference_Network",SPHEROID["GRS 1980",6378137,298.257222101,AUTHORITY["EPSG","7019"]],TOWGS84[0,0,0,0,0,0,0],AUTHORITY["EPSG","6152"]],PRIMEM["Greenwich",0,AUTHORITY["EPSG","8901"]],UNIT["degree",0.0174532925199433,AUTHORITY["EPSG","9122"]],AUTHORITY["EPSG","4152"]],PROJECTION["Lambert_Conformal_Conic_2SP"],PARAMETER["standard_parallel_1",39.83333333333334],PARAMETER["standard_parallel_2",38.33333333333334],PARAMETER["latitude_of_origin",37.66666666666666],PARAMETER["central_meridian",-122],PARAMETER["false_easting",6561666.667],PARAMETER["false_northing",1640416.667],UNIT["US survey foot",0.3048006096012192,AUTHORITY["EPSG","9003"]],AXIS["X",EAST],AXIS["Y",NORTH],AUTHORITY["EPSG","2871"]]</SRS>
  <GeoTransform>  6.1190169999999972e+06,  3.0000000000000000e+00,  0.0000000000000000e+00,  2.2508020000000009e+06,  0.0000000000000000e+00, -3.0000000000000000e+00</GeoTransform>
  <VRTRasterBand dataType="Byte" band="1">
    <NoDataValue>0.00000000000000E+00</NoDataValue>
    <ColorInterp>Gray</ColorInterp>
    <ComplexSource>
      <SourceFilename relativeToVRT="1">SONOMA_LIDAR_iv/VR_SOCO_0066.tif</SourceFilename>
      <SourceBand>1</SourceBand>
      <SourceProperties RasterXSize="12600" RasterYSize="12600" DataType="Byte" BlockXSize="256" BlockYSize="16" />
      <SrcRect xOff="0" yOff="0" xSize="12600" ySize="12600" />
      <DstRect xOff="63000" yOff="63000" xSize="12600" ySize="12600" />
      <NODATA>0</NODATA>
    </ComplexSource>
    <ComplexSource>
      <SourceFilename relativeToVRT="1">SONOMA_LIDAR_iv/VEG_SOCO_0114.tif</SourceFilename>
      <SourceBand>1</SourceBand>
      <SourceProperties RasterXSize="12600" RasterYSize="12600" DataType="Byte" BlockXSize="256" BlockYSize="16" />
      <SrcRect xOff="0" yOff="0" xSize="12600" ySize="12600" />
      <DstRect xOff="37800" yOff="0" xSize="12600" ySize="12600" />
      <NODATA>0</NODATA>
    </ComplexSource>
    <ComplexSource>
      <SourceFilename relativeToVRT="1">SONOMA_LIDAR_iv/VR_SOCO_0054.tif</SourceFilename>
      <SourceBand>1</SourceBand>
      <SourceProperties RasterXSize="12600" RasterYSize="12600" DataType="Byte" BlockXSize="256" BlockYSize="16" />
      <SrcRect xOff="0" yOff="0" xSize="12600" ySize="12600" />
      <DstRect xOff="37800" yOff="75600" xSize="12600" ySize="12600" />
      <NODATA>0</NODATA>
    </ComplexSource>
    <ComplexSource>
      <SourceFilename relativeToVRT="1">SONOMA_LIDAR_iv/VEG_SOCO_0073.tif</SourceFilename>
      <SourceBand>1</SourceBand>
      <SourceProperties RasterXSize="12600" RasterYSize="12600" DataType="Byte" BlockXSize="256" BlockYSize="16" />
      <SrcRect xOff="0" yOff="0" xSize="12600" ySize="12600" />
      <DstRect xOff="25200" yOff="50400" xSize="12600" ySize="12600" />
      <NODATA>0</NODATA>
    </ComplexSource>
    <ComplexSource>
      <SourceFilename relativeToVRT="1">SONOMA_LIDAR_iv/VR_SOCO_0009.tif</SourceFilename>
      <SourceBand>1</SourceBand>
      <SourceProperties RasterXSize="12600" RasterYSize="12600" DataType="Byte" BlockXSize="256" BlockYSize="16" />
      <SrcRect xOff="0" yOff="0" xSize="12600" ySize="12600" />
      <DstRect xOff="100800" yOff="138600" xSize="12600" ySize="12600" />
      <NODATA>0</NODATA>
    </ComplexSource>
    <ComplexSource>
      <SourceFilename relativeToVRT="1">SONOMA_LIDAR_iv/VR_SOCO_0017.tif</SourceFilename>
      <SourceBand>1</SourceBand>
      <SourceProperties RasterXSize="12600" RasterYSize="12600" DataType="Byte" BlockXSize="256" BlockYSize="16" />
      <SrcRect xOff="0" yOff="0" xSize="12600" ySize="12600" />
      <DstRect xOff="75600" yOff="126000" xSize="12600" ySize="12600" />
      <NODATA>0</NODATA>
    </ComplexSource>
    <ComplexSource>
      <SourceFilename relativeToVRT="1">SONOMA_LIDAR_iv/VR_SOCO_0045.tif</SourceFilename>
      <SourceBand>1</SourceBand>
      <SourceProperties RasterXSize="12600" RasterYSize="12600" DataType="Byte" BlockXSize="256" BlockYSize="16" />
      <SrcRect xOff="0" yOff="0" xSize="12600" ySize="12600" />
      <DstRect xOff="50400" yOff="88200" xSize="12600" ySize="12600" />
      <NODATA>0</NODATA>
    </ComplexSource>
    <ComplexSource>
      <SourceFilename relativeToVRT="1">SONOMA_LIDAR_iv/VR_SOCO_0027.tif</SourceFilename>
      <SourceBand>1</SourceBand>
      <SourceProperties RasterXSize="12600" RasterYSize="12600" DataType="Byte" BlockXSize="256" BlockYSize="16" />
      <SrcRect xOff="0" yOff="0" xSize="12600" ySize="12600" />
      <DstRect xOff="75600" yOff="113400" xSize="12600" ySize="12600" />
      <NODATA>0</NODATA>
    </ComplexSource>
    <ComplexSource>
      <SourceFilename relativeToVRT="1">SONOMA_LIDAR_iv/VR_SOCO_0020.tif</SourceFilename>
      <SourceBand>1</SourceBand>
      <SourceProperties RasterXSize="12600" RasterYSize="12600" DataType="Byte" BlockXSize="256" BlockYSize="16" />
      <SrcRect xOff="0" yOff="0" xSize="12600" ySize="12600" />
      <DstRect xOff="113400" yOff="126000" xSize="12600" ySize="12600" />
      <NODATA>0</NODATA>
    </ComplexSource>
    <ComplexSource>
      <SourceFilename relativeToVRT="1">SONOMA_LIDAR_iv/VEG_SOCO_0038.tif</SourceFilename>
      <SourceBand>1</SourceBand>
      <SourceProperties RasterXSize="12600" RasterYSize="12600" DataType="Byte" BlockXSize="256" BlockYSize="16" />
      <SrcRect xOff="0" yOff="0" xSize="12600" ySize="12600" />
      <DstRect xOff="88200" yOff="100800" xSize="12600" ySize="12600" />
      <NODATA>0</NODATA>
    </ComplexSource>
    <ComplexSource>
      <SourceFilename relativeToVRT="1">SONOMA_LIDAR_iv/VEG_SOCO_0035.tif</SourceFilename>
      <SourceBand>1</SourceBand>
      <SourceProperties RasterXSize="12600" RasterYSize="12600" DataType="Byte" BlockXSize="256" BlockYSize="16" />
      <SrcRect xOff="0" yOff="0" xSize="12600" ySize="12600" />
      <DstRect xOff="50400" yOff="100800" xSize="12600" ySize="12600" />
      <NODATA>0</NODATA>
    </ComplexSource>
    <ComplexSource>
      <SourceFilename relativeToVRT="1">SONOMA_LIDAR_iv/VEG_SOCO_0053.tif</SourceFilename>
      <SourceBand>1</SourceBand>
      <SourceProperties RasterXSize="12600" RasterYSize="12600" DataType="Byte" BlockXSize="256" BlockYSize="16" />
      <SrcRect xOff="0" yOff="0" xSize="12600" ySize="12600" />
      <DstRect xOff="25200" yOff="75600" xSize="12600" ySize="12600" />
      <NODATA>0</NODATA>
    </ComplexSource>
    <ComplexSource>
      <SourceFilename relativeToVRT="1">SONOMA_LIDAR_iv/VR_SOCO_0015.tif</SourceFilename>
      <SourceBand>1</SourceBand>
      <SourceProperties RasterXSize="12600" RasterYSize="12600" DataType="Byte" BlockXSize="256" BlockYSize="16" />
      <SrcRect xOff="0" yOff="0" xSize="12600" ySize="12600" />
      <DstRect xOff="50400" yOff="126000" xSize="12600" ySize="12600" />
      <NODATA>0</NODATA>
    </ComplexSource>
    <ComplexSource>
      <SourceFilename relativeToVRT="1">SONOMA_LIDAR_iv/VR_SOCO_0019.tif</SourceFilename>
      <SourceBand>1</SourceBand>
      <SourceProperties RasterXSize="12600" RasterYSize="12600" DataType="Byte" BlockXSize="256" BlockYSize="16" />
      <SrcRect xOff="0" yOff="0" xSize="12600" ySize="12600" />
      <DstRect xOff="100800" yOff="126000" xSize="12600" ySize="12600" />
      <NODATA>0</NODATA>
    </ComplexSource>
    <ComplexSource>
      <SourceFilename relativeToVRT="1">SONOMA_LIDAR_iv/VEG_SOCO_0083.tif</SourceFilename>
      <SourceBand>1</SourceBand>
      <SourceProperties RasterXSize="12600" RasterYSize="12600" DataType="Byte" BlockXSize="256" BlockYSize="16" />
      <SrcRect xOff="0" yOff="0" xSize="12600" ySize="12600" />
      <DstRect xOff="25200" yOff="37800" xSize="12600" ySize="12600" />
      <NODATA>0</NODATA>
    </ComplexSource>
    <ComplexSource>
      <SourceFilename relativeToVRT="1">SONOMA_LIDAR_iv/VR_SOCO_0055.tif</SourceFilename>
      <SourceBand>1</SourceBand>
      <SourceProperties RasterXSize="12600" RasterYSize="12600" DataType="Byte" BlockXSize="256" BlockYSize="16" />
      <SrcRect xOff="0" yOff="0" xSize="12600" ySize="12600" />
      <DstRect xOff="50400" yOff="75600" xSize="12600" ySize="12600" />
      <NODATA>0</NODATA>
    </ComplexSource>
    <ComplexSource>
      <SourceFilename relativeToVRT="1">SONOMA_LIDAR_iv/VR_SOCO_0076.tif</SourceFilename>
      <SourceBand>1</SourceBand>
      <SourceProperties RasterXSize="12600" RasterYSize="12600" DataType="Byte" BlockXSize="256" BlockYSize="16" />
      <SrcRect xOff="0" yOff="0" xSize="12600" ySize="12600" />
      <DstRect xOff="63000" yOff="50400" xSize="12600" ySize="12600" />
      <NODATA>0</NODATA>
    </ComplexSource>
    <ComplexSource>
      <SourceFilename relativeToVRT="1">SONOMA_LIDAR_iv/VEG_SOCO_0051.tif</SourceFilename>
      <SourceBand>1</SourceBand>
      <SourceProperties RasterXSize="12600" RasterYSize="12600" DataType="Byte" BlockXSize="256" BlockYSize="16" />
      <SrcRect xOff="0" yOff="0" xSize="12600" ySize="12600" />
      <DstRect xOff="0" yOff="75600" xSize="12600" ySize="12600" />
      <NODATA>0</NODATA>
    </ComplexSource>
    <ComplexSource>
      <SourceFilename relativeToVRT="1">SONOMA_LIDAR_iv/VR_SOCO_0067.tif</SourceFilename>
      <SourceBand>1</SourceBand>
      <SourceProperties RasterXSize="12600" RasterYSize="12600" DataType="Byte" BlockXSize="256" BlockYSize="16" />
      <SrcRect xOff="0" yOff="0" xSize="12600" ySize="12600" />
      <DstRect xOff="75600" yOff="63000" xSize="12600" ySize="12600" />
      <NODATA>0</NODATA>
    </ComplexSource>
    <ComplexSource>
      <SourceFilename relativeToVRT="1">SONOMA_LIDAR_iv/VR_SOCO_0016.tif</SourceFilename>
      <SourceBand>1</SourceBand>
      <SourceProperties RasterXSize="12600" RasterYSize="12600" DataType="Byte" BlockXSize="256" BlockYSize="16" />
      <SrcRect xOff="0" yOff="0" xSize="12600" ySize="12600" />
      <DstRect xOff="63000" yOff="126000" xSize="12600" ySize="12600" />
      <NODATA>0</NODATA>
    </ComplexSource>
    <ComplexSource>
      <SourceFilename relativeToVRT="1">SONOMA_LIDAR_iv/VEG_SOCO_0103.tif</SourceFilename>
      <SourceBand>1</SourceBand>
      <SourceProperties RasterXSize="12600" RasterYSize="12600" DataType="Byte" BlockXSize="256" BlockYSize="16" />
      <SrcRect xOff="0" yOff="0" xSize="12600" ySize="12600" />
      <DstRect xOff="25200" yOff="12600" xSize="12600" ySize="12600" />
      <NODATA>0</NODATA>
    </ComplexSource>
    <ComplexSource>
      <SourceFilename relativeToVRT="1">SONOMA_LIDAR_iv/VR_SOCO_0046.tif</SourceFilename>
      <SourceBand>1</SourceBand>
      <SourceProperties RasterXSize="12600" RasterYSize="12600" DataType="Byte" BlockXSize="256" BlockYSize="16" />
      <SrcRect xOff="0" yOff="0" xSize="12600" ySize="12600" />
      <DstRect xOff="63000" yOff="88200" xSize="12600" ySize="12600" />
      <NODATA>0</NODATA>
    </ComplexSource>
    <ComplexSource>
      <SourceFilename relativeToVRT="1">SONOMA_LIDAR_iv/VEG_SOCO_0036.tif</SourceFilename>
      <SourceBand>1</SourceBand>
      <SourceProperties RasterXSize="12600" RasterYSize="12600" DataType="Byte" BlockXSize="256" BlockYSize="16" />
      <SrcRect xOff="0" yOff="0" xSize="12600" ySize="12600" />
      <DstRect xOff="63000" yOff="100800" xSize="12600" ySize="12600" />
      <NODATA>0</NODATA>
    </ComplexSource>
    <ComplexSource>
      <SourceFilename relativeToVRT="1">SONOMA_LIDAR_iv/VR_SOCO_0014.tif</SourceFilename>
      <SourceBand>1</SourceBand>
      <SourceProperties RasterXSize="12600" RasterYSize="12600" DataType="Byte" BlockXSize="256" BlockYSize="16" />
      <SrcRect xOff="0" yOff="0" xSize="12600" ySize="12600" />
      <DstRect xOff="37800" yOff="126000" xSize="12600" ySize="12600" />
      <NODATA>0</NODATA>
    </ComplexSource>
    <ComplexSource>
      <SourceFilename relativeToVRT="1">SONOMA_LIDAR_iv/VR_SOCO_0065.tif</SourceFilename>
      <SourceBand>1</SourceBand>
      <SourceProperties RasterXSize="12600" RasterYSize="12600" DataType="Byte" BlockXSize="256" BlockYSize="16" />
      <SrcRect xOff="0" yOff="0" xSize="12600" ySize="12600" />
      <DstRect xOff="50400" yOff="63000" xSize="12600" ySize="12600" />
      <NODATA>0</NODATA>
    </ComplexSource>
    <ComplexSource>
      <SourceFilename relativeToVRT="1">SONOMA_LIDAR_iv/VR_SOCO_0056.tif</SourceFilename>
      <SourceBand>1</SourceBand>
      <SourceProperties RasterXSize="12600" RasterYSize="12600" DataType="Byte" BlockXSize="256" BlockYSize="16" />
      <SrcRect xOff="0" yOff="0" xSize="12600" ySize="12600" />
      <DstRect xOff="63000" yOff="75600" xSize="12600" ySize="12600" />
      <NODATA>0</NODATA>
    </ComplexSource>
    <ComplexSource>
      <SourceFilename relativeToVRT="1">SONOMA_LIDAR_iv/VR_SOCO_0028.tif</SourceFilename>
      <SourceBand>1</SourceBand>
      <SourceProperties RasterXSize="12600" RasterYSize="12600" DataType="Byte" BlockXSize="256" BlockYSize="16" />
      <SrcRect xOff="0" yOff="0" xSize="12600" ySize="12600" />
      <DstRect xOff="88200" yOff="113400" xSize="12600" ySize="12600" />
      <NODATA>0</NODATA>
    </ComplexSource>
    <ComplexSource>
      <SourceFilename relativeToVRT="1">SONOMA_LIDAR_iv/VR_SOCO_0018.tif</SourceFilename>
      <SourceBand>1</SourceBand>
      <SourceProperties RasterXSize="12600" RasterYSize="12600" DataType="Byte" BlockXSize="256" BlockYSize="16" />
      <SrcRect xOff="0" yOff="0" xSize="12600" ySize="12600" />
      <DstRect xOff="88200" yOff="126000" xSize="12600" ySize="12600" />
      <NODATA>0</NODATA>
    </ComplexSource>
    <ComplexSource>
      <SourceFilename relativeToVRT="1">SONOMA_LIDAR_iv/VR_SOCO_0025.tif</SourceFilename>
      <SourceBand>1</SourceBand>
      <SourceProperties RasterXSize="12600" RasterYSize="12600" DataType="Byte" BlockXSize="256" BlockYSize="16" />
      <SrcRect xOff="0" yOff="0" xSize="12600" ySize="12600" />
      <DstRect xOff="50400" yOff="113400" xSize="12600" ySize="12600" />
      <NODATA>0</NODATA>
    </ComplexSource>
    <ComplexSource>
      <SourceFilename relativeToVRT="1">SONOMA_LIDAR_iv/VEG_SOCO_0113.tif</SourceFilename>
      <SourceBand>1</SourceBand>
      <SourceProperties RasterXSize="12600" RasterYSize="12600" DataType="Byte" BlockXSize="256" BlockYSize="16" />
      <SrcRect xOff="0" yOff="0" xSize="12600" ySize="12600" />
      <DstRect xOff="25200" yOff="0" xSize="12600" ySize="12600" />
      <NODATA>0</NODATA>
    </ComplexSource>
    <ComplexSource>
      <SourceFilename relativeToVRT="1">SONOMA_LIDAR_iv/VR_SOCO_0024.tif</SourceFilename>
      <SourceBand>1</SourceBand>
      <SourceProperties RasterXSize="12600" RasterYSize="12600" DataType="Byte" BlockXSize="256" BlockYSize="16" />
      <SrcRect xOff="0" yOff="0" xSize="12600" ySize="12600" />
      <DstRect xOff="37800" yOff="113400" xSize="12600" ySize="12600" />
      <NODATA>0</NODATA>
    </ComplexSource>
    <ComplexSource>
      <SourceFilename relativeToVRT="1">SONOMA_LIDAR_iv/VR_SOCO_0010.tif</SourceFilename>
      <SourceBand>1</SourceBand>
      <SourceProperties RasterXSize="12600" RasterYSize="12600" DataType="Byte" BlockXSize="256" BlockYSize="16" />
      <SrcRect xOff="0" yOff="0" xSize="12600" ySize="12600" />
      <DstRect xOff="113400" yOff="138600" xSize="12600" ySize="12600" />
      <NODATA>0</NODATA>
    </ComplexSource>
    <ComplexSource>
      <SourceFilename relativeToVRT="1">SONOMA_LIDAR_iv/VR_SOCO_0033.tif</SourceFilename>
      <SourceBand>1</SourceBand>
      <SourceProperties RasterXSize="12600" RasterYSize="12600" DataType="Byte" BlockXSize="256" BlockYSize="16" />
      <SrcRect xOff="0" yOff="0" xSize="12600" ySize="12600" />
      <DstRect xOff="25200" yOff="100800" xSize="12600" ySize="12600" />
      <NODATA>0</NODATA>
    </ComplexSource>
    <ComplexSource>
      <SourceFilename relativeToVRT="1">SONOMA_LIDAR_iv/VR_SOCO_0057.tif</SourceFilename>
      <SourceBand>1</SourceBand>
      <SourceProperties RasterXSize="12600" RasterYSize="12600" DataType="Byte" BlockXSize="256" BlockYSize="16" />
      <SrcRect xOff="0" yOff="0" xSize="12600" ySize="12600" />
      <DstRect xOff="75600" yOff="75600" xSize="12600" ySize="12600" />
      <NODATA>0</NODATA>
    </ComplexSource>
    <ComplexSource>
      <SourceFilename relativeToVRT="1">SONOMA_LIDAR_iv/VEG_SOCO_0062.tif</SourceFilename>
      <SourceBand>1</SourceBand>
      <SourceProperties RasterXSize="12600" RasterYSize="12600" DataType="Byte" BlockXSize="256" BlockYSize="16" />
      <SrcRect xOff="0" yOff="0" xSize="12600" ySize="12600" />
      <DstRect xOff="12600" yOff="63000" xSize="12600" ySize="12600" />
      <NODATA>0</NODATA>
    </ComplexSource>
    <ComplexSource>
      <SourceFilename relativeToVRT="1">SONOMA_LIDAR_iv/VR_SOCO_0026.tif</SourceFilename>
      <SourceBand>1</SourceBand>
      <SourceProperties RasterXSize="12600" RasterYSize="12600" DataType="Byte" BlockXSize="256" BlockYSize="16" />
      <SrcRect xOff="0" yOff="0" xSize="12600" ySize="12600" />
      <DstRect xOff="63000" yOff="113400" xSize="12600" ySize="12600" />
      <NODATA>0</NODATA>
    </ComplexSource>
    <ComplexSource>
      <SourceFilename relativeToVRT="1">SONOMA_LIDAR_iv/VR_SOCO_0074.tif</SourceFilename>
      <SourceBand>1</SourceBand>
      <SourceProperties RasterXSize="12600" RasterYSize="12600" DataType="Byte" BlockXSize="256" BlockYSize="16" />
      <SrcRect xOff="0" yOff="0" xSize="12600" ySize="12600" />
      <DstRect xOff="37800" yOff="50400" xSize="12600" ySize="12600" />
      <NODATA>0</NODATA>
    </ComplexSource>
    <ComplexSource>
      <SourceFilename relativeToVRT="1">SONOMA_LIDAR_iv/VR_SOCO_0058.tif</SourceFilename>
      <SourceBand>1</SourceBand>
      <SourceProperties RasterXSize="12600" RasterYSize="12600" DataType="Byte" BlockXSize="256" BlockYSize="16" />
      <SrcRect xOff="0" yOff="0" xSize="12600" ySize="12600" />
      <DstRect xOff="88200" yOff="75600" xSize="12600" ySize="12600" />
      <NODATA>0</NODATA>
    </ComplexSource>
    <ComplexSource>
      <SourceFilename relativeToVRT="1">SONOMA_LIDAR_iv/VEG_SOCO_0052.tif</SourceFilename>
      <SourceBand>1</SourceBand>
      <SourceProperties RasterXSize="12600" RasterYSize="12600" DataType="Byte" BlockXSize="256" BlockYSize="16" />
      <SrcRect xOff="0" yOff="0" xSize="12600" ySize="12600" />
      <DstRect xOff="12600" yOff="75600" xSize="12600" ySize="12600" />
      <NODATA>0</NODATA>
    </ComplexSource>
    <ComplexSource>
      <SourceFilename relativeToVRT="1">SONOMA_LIDAR_iv/VR_SOCO_0064.tif</SourceFilename>
      <SourceBand>1</SourceBand>
      <SourceProperties RasterXSize="12600" RasterYSize="12600" DataType="Byte" BlockXSize="256" BlockYSize="16" />
      <SrcRect xOff="0" yOff="0" xSize="12600" ySize="12600" />
      <DstRect xOff="37800" yOff="63000" xSize="12600" ySize="12600" />
      <NODATA>0</NODATA>
    </ComplexSource>
    <ComplexSource>
      <SourceFilename relativeToVRT="1">SONOMA_LIDAR_iv/VR_SOCO_0075.tif</SourceFilename>
      <SourceBand>1</SourceBand>
      <SourceProperties RasterXSize="12600" RasterYSize="12600" DataType="Byte" BlockXSize="256" BlockYSize="16" />
      <SrcRect xOff="0" yOff="0" xSize="12600" ySize="12600" />
      <DstRect xOff="50400" yOff="50400" xSize="12600" ySize="12600" />
      <NODATA>0</NODATA>
    </ComplexSource>
    <ComplexSource>
      <SourceFilename relativeToVRT="1">SONOMA_LIDAR_iv/VR_SOCO_0007.tif</SourceFilename>
      <SourceBand>1</SourceBand>
      <SourceProperties RasterXSize="12600" RasterYSize="12600" DataType="Byte" BlockXSize="256" BlockYSize="16" />
      <SrcRect xOff="0" yOff="0" xSize="12600" ySize="12600" />
      <DstRect xOff="75600" yOff="138600" xSize="12600" ySize="12600" />
      <NODATA>0</NODATA>
    </ComplexSource>
    <ComplexSource>
      <SourceFilename relativeToVRT="1">SONOMA_LIDAR_iv/VEG_SOCO_0042.tif</SourceFilename>
      <SourceBand>1</SourceBand>
      <SourceProperties RasterXSize="12600" RasterYSize="12600" DataType="Byte" BlockXSize="256" BlockYSize="16" />
      <SrcRect xOff="0" yOff="0" xSize="12600" ySize="12600" />
      <DstRect xOff="12600" yOff="88200" xSize="12600" ySize="12600" />
      <NODATA>0</NODATA>
    </ComplexSource>
    <ComplexSource>
      <SourceFilename relativeToVRT="1">SONOMA_LIDAR_iv/VEG_SOCO_0063.tif</SourceFilename>
      <SourceBand>1</SourceBand>
      <SourceProperties RasterXSize="12600" RasterYSize="12600" DataType="Byte" BlockXSize="256" BlockYSize="16" />
      <SrcRect xOff="0" yOff="0" xSize="12600" ySize="12600" />
      <DstRect xOff="25200" yOff="63000" xSize="12600" ySize="12600" />
      <NODATA>0</NODATA>
    </ComplexSource>
    <ComplexSource>
      <SourceFilename relativeToVRT="1">SONOMA_LIDAR_iv/VR_SOCO_0029.tif</SourceFilename>
      <SourceBand>1</SourceBand>
      <SourceProperties RasterXSize="12600" RasterYSize="12600" DataType="Byte" BlockXSize="256" BlockYSize="16" />
      <SrcRect xOff="0" yOff="0" xSize="12600" ySize="12600" />
      <DstRect xOff="100800" yOff="113400" xSize="12600" ySize="12600" />
      <NODATA>0</NODATA>
    </ComplexSource>
    <ComplexSource>
      <SourceFilename relativeToVRT="1">SONOMA_LIDAR_iv/VR_SOCO_0034.tif</SourceFilename>
      <SourceBand>1</SourceBand>
      <SourceProperties RasterXSize="12600" RasterYSize="12600" DataType="Byte" BlockXSize="256" BlockYSize="16" />
      <SrcRect xOff="0" yOff="0" xSize="12600" ySize="12600" />
      <DstRect xOff="37800" yOff="100800" xSize="12600" ySize="12600" />
      <NODATA>0</NODATA>
    </ComplexSource>
    <ComplexSource>
      <SourceFilename relativeToVRT="1">SONOMA_LIDAR_iv/VR_SOCO_0048.tif</SourceFilename>
      <SourceBand>1</SourceBand>
      <SourceProperties RasterXSize="12600" RasterYSize="12600" DataType="Byte" BlockXSize="256" BlockYSize="16" />
      <SrcRect xOff="0" yOff="0" xSize="12600" ySize="12600" />
      <DstRect xOff="88200" yOff="88200" xSize="12600" ySize="12600" />
      <NODATA>0</NODATA>
    </ComplexSource>
    <ComplexSource>
      <SourceFilename relativeToVRT="1">SONOMA_LIDAR_iv/VEG_SOCO_0039.tif</SourceFilename>
      <SourceBand>1</SourceBand>
      <SourceProperties RasterXSize="12600" RasterYSize="12600" DataType="Byte" BlockXSize="256" BlockYSize="16" />
      <SrcRect xOff="0" yOff="0" xSize="12600" ySize="12600" />
      <DstRect xOff="100800" yOff="100800" xSize="12600" ySize="12600" />
      <NODATA>0</NODATA>
    </ComplexSource>
    <ComplexSource>
      <SourceFilename relativeToVRT="1">SONOMA_LIDAR_iv/VR_SOCO_0047.tif</SourceFilename>
      <SourceBand>1</SourceBand>
      <SourceProperties RasterXSize="12600" RasterYSize="12600" DataType="Byte" BlockXSize="256" BlockYSize="16" />
      <SrcRect xOff="0" yOff="0" xSize="12600" ySize="12600" />
      <DstRect xOff="75600" yOff="88200" xSize="12600" ySize="12600" />
      <NODATA>0</NODATA>
    </ComplexSource>
    <ComplexSource>
      <SourceFilename relativeToVRT="1">SONOMA_LIDAR_iv/VEG_SOCO_0043.tif</SourceFilename>
      <SourceBand>1</SourceBand>
      <SourceProperties RasterXSize="12600" RasterYSize="12600" DataType="Byte" BlockXSize="256" BlockYSize="16" />
      <SrcRect xOff="0" yOff="0" xSize="12600" ySize="12600" />
      <DstRect xOff="25200" yOff="88200" xSize="12600" ySize="12600" />
      <NODATA>0</NODATA>
    </ComplexSource>
    <ComplexSource>
      <SourceFilename relativeToVRT="1">SONOMA_LIDAR_iv/VEG_SOCO_0104.tif</SourceFilename>
      <SourceBand>1</SourceBand>
      <SourceProperties RasterXSize="12600" RasterYSize="12600" DataType="Byte" BlockXSize="256" BlockYSize="16" />
      <SrcRect xOff="0" yOff="0" xSize="12600" ySize="12600" />
      <DstRect xOff="37800" yOff="12600" xSize="12600" ySize="12600" />
      <NODATA>0</NODATA>
    </ComplexSource>
    <ComplexSource>
      <SourceFilename relativeToVRT="1">SONOMA_LIDAR_iv/VEG_SOCO_0037.tif</SourceFilename>
      <SourceBand>1</SourceBand>
      <SourceProperties RasterXSize="12600" RasterYSize="12600" DataType="Byte" BlockXSize="256" BlockYSize="16" />
